BEGIN:VCALENDAR
VERSION:2.0
PRODID:-//IDO - ECPv6.15.20//NONSGML v1.0//EN
CALSCALE:GREGORIAN
METHOD:PUBLISH
X-WR-CALNAME:IDO
X-ORIGINAL-URL:https://idoflow.be
X-WR-CALDESC:Évènements pour IDO
REFRESH-INTERVAL;VALUE=DURATION:PT1H
X-Robots-Tag:noindex
X-PUBLISHED-TTL:PT1H
BEGIN:VTIMEZONE
TZID:Europe/Brussels
BEGIN:DAYLIGHT
TZOFFSETFROM:+0100
TZOFFSETTO:+0200
TZNAME:CEST
DTSTART:20210328T010000
END:DAYLIGHT
BEGIN:STANDARD
TZOFFSETFROM:+0200
TZOFFSETTO:+0100
TZNAME:CET
DTSTART:20211031T010000
END:STANDARD
BEGIN:DAYLIGHT
TZOFFSETFROM:+0100
TZOFFSETTO:+0200
TZNAME:CEST
DTSTART:20220327T010000
END:DAYLIGHT
BEGIN:STANDARD
TZOFFSETFROM:+0200
TZOFFSETTO:+0100
TZNAME:CET
DTSTART:20221030T010000
END:STANDARD
BEGIN:DAYLIGHT
TZOFFSETFROM:+0100
TZOFFSETTO:+0200
TZNAME:CEST
DTSTART:20230326T010000
END:DAYLIGHT
BEGIN:STANDARD
TZOFFSETFROM:+0200
TZOFFSETTO:+0100
TZNAME:CET
DTSTART:20231029T010000
END:STANDARD
END:VTIMEZONE
BEGIN:VEVENT
DTSTART;TZID=Europe/Brussels:20221016T190000
DTEND;TZID=Europe/Brussels:20221016T203000
DTSTAMP:20260426T001549
CREATED:20220818T135302Z
LAST-MODIFIED:20240913T144210Z
UID:5032-1665946800-1665952200@idoflow.be
SUMMARY:Yogacqua dimanche 16 octobre
DESCRIPTION:Allier les bienfaits du yoga et de l’eau chaude pour explorer le mouvement conscient et la détente. \nSéances d’une heure et demie\, sans prérequis\, dans un bassin chauffé privatisé. \nTarif : 35€ / séance\, 95€ / 3 séances\, 180€ / 6 séances\, 280€ / 10 séances \nInscription et infos supplémentaires
URL:https://idoflow.be/event/yogacqua-dimanche-16-octobre
LOCATION:Au bord de l’eau\, Chaussée d'Alsemberg 620\, Bruxelles\, 1180\, Belgium
CATEGORIES:Yoga,Yogacqua
ATTACH;FMTTYPE=image/jpeg:https://idoflow.be/wp-content/uploads/2021/09/202107_Yoga_191-scaled.jpg
ORGANIZER;CN="Giacomo":MAILTO:giacomo@idoflow.be
END:VEVENT
BEGIN:VEVENT
DTSTART;TZID=Europe/Brussels:20221012T194500
DTEND;TZID=Europe/Brussels:20221012T210000
DTSTAMP:20260426T001549
CREATED:20220828T175013Z
LAST-MODIFIED:20240913T144039Z
UID:5069-1665603900-1665608400@idoflow.be
SUMMARY:Yogacqua prénatal 12/10
DESCRIPTION:Allier les bienfaits du yoga prénatal et de l’eau chaude pour alléger la grossesse et préparer l’accouchement dans la détente. \nSéances d’une heure et quart\, sans prérequis\, dans un bassin chauffé privatisé. \nTarif : 30€ / séance\, 85€ / 3 séances\, 160€ / 6 séances\, 250€ / 10 séances \nPlus d’informations \nInscription
URL:https://idoflow.be/event/yogacqua-prenatal-1210
LOCATION:Au bord de l’eau\, Chaussée d'Alsemberg 620\, Bruxelles\, 1180\, Belgium
CATEGORIES:Yoga prénatal,Yogacqua prénatal
ATTACH;FMTTYPE=image/jpeg:https://idoflow.be/wp-content/uploads/2022/08/UNADJUSTEDNONRAW_thumb_50fc.jpg
ORGANIZER;CN="Giacomo":MAILTO:giacomo@idoflow.be
END:VEVENT
BEGIN:VEVENT
DTSTART;TZID=Europe/Brussels:20221010T133000
DTEND;TZID=Europe/Brussels:20221010T153000
DTSTAMP:20260426T001549
CREATED:20220910T143855Z
LAST-MODIFIED:20220910T143855Z
UID:5127-1665408600-1665415800@idoflow.be
SUMMARY:Relaxation Aquatique Re-Source 10/10
DESCRIPTION:Dans un bassin privatisé pour les membres de Re-source\, des thérapeutes vous proposent un moment de détente profonde. \nVous profitez des bienfaits d’une eau chauffée à 35° et de la joie d’être pleinement présent dans ce moment de détente. Libéré des contraintes de la gravité\, votre corps se laisse aller\, dénoué de toute tension. \nCet atelier de relaxation aquatique offre des temps de méditation\, de flottaison\, d’immersion aquatique\, de yoga\, … Un moment de (re)découverte de soi et de l’autre\, en apesanteur pendant 60 minutes. \nInformations : https://idoflow.be/vitalite\nInscriptions à info@re-source-delta.be
URL:https://idoflow.be/event/relaxation-aquatique-re-source-1010
LOCATION:Au bord de l’eau\, Chaussée d'Alsemberg 620\, Bruxelles\, 1180\, Belgium
CATEGORIES:IDO Vitalité,Relaxation Aquatique
ATTACH;FMTTYPE=image/jpeg:https://idoflow.be/wp-content/uploads/2022/06/Relaxation-Aquatique.jpg
ORGANIZER;CN="Giacomo":MAILTO:giacomo@idoflow.be
END:VEVENT
BEGIN:VEVENT
DTSTART;TZID=Europe/Brussels:20221009T190000
DTEND;TZID=Europe/Brussels:20221009T203000
DTSTAMP:20260426T001549
CREATED:20220818T135146Z
LAST-MODIFIED:20240913T144210Z
UID:5030-1665342000-1665347400@idoflow.be
SUMMARY:Yogacqua dimanche 9 octobre
DESCRIPTION:Allier les bienfaits du yoga et de l’eau chaude pour explorer le mouvement conscient et la détente. \nSéances d’une heure et demie\, sans prérequis\, dans un bassin chauffé privatisé. \nTarif : 35€ / séance\, 95€ / 3 séances\, 180€ / 6 séances\, 280€ / 10 séances \nInscription et infos supplémentaires
URL:https://idoflow.be/event/yogacqua-dimanche-9-octobre
LOCATION:Au bord de l’eau\, Chaussée d'Alsemberg 620\, Bruxelles\, 1180\, Belgium
CATEGORIES:Yoga,Yogacqua
ATTACH;FMTTYPE=image/jpeg:https://idoflow.be/wp-content/uploads/2021/09/202107_Yoga_191-scaled.jpg
ORGANIZER;CN="Giacomo":MAILTO:giacomo@idoflow.be
END:VEVENT
BEGIN:VEVENT
DTSTART;TZID=Europe/Brussels:20221008T140000
DTEND;TZID=Europe/Brussels:20221008T150000
DTSTAMP:20260426T001549
CREATED:20220909T192607Z
LAST-MODIFIED:20240913T144211Z
UID:5106-1665237600-1665241200@idoflow.be
SUMMARY:Relaxation Aquatique 8/10
DESCRIPTION:séances d’introduction au mouvement et à la relaxation en eau chaude \ntarif : 25€ par séance \nInscription \n+ d’infos
URL:https://idoflow.be/event/relaxation-aquatique-810
LOCATION:Au bord de l’eau\, Chaussée d'Alsemberg 620\, Bruxelles\, 1180\, Belgium
CATEGORIES:Relaxation Aquatique,Yogacqua
ATTACH;FMTTYPE=image/jpeg:https://idoflow.be/wp-content/uploads/2021/09/202107_Yoga_335-savasana-4-scaled.jpg
ORGANIZER;CN="Giacomo":MAILTO:giacomo@idoflow.be
END:VEVENT
BEGIN:VEVENT
DTSTART;TZID=Europe/Brussels:20221005T194500
DTEND;TZID=Europe/Brussels:20221005T210000
DTSTAMP:20260426T001549
CREATED:20220828T174844Z
LAST-MODIFIED:20240913T144039Z
UID:5067-1664999100-1665003600@idoflow.be
SUMMARY:Yogacqua prénatal 05/10
DESCRIPTION:Allier les bienfaits du yoga prénatal et de l’eau chaude pour alléger la grossesse et préparer l’accouchement dans la détente. \nSéances d’une heure et quart\, sans prérequis\, dans un bassin chauffé privatisé. \nTarif : 30€ / séance\, 85€ / 3 séances\, 160€ / 6 séances\, 250€ / 10 séances \nPlus d’informations \nInscription
URL:https://idoflow.be/event/yogacqua-prenatal-0510
LOCATION:Au bord de l’eau\, Chaussée d'Alsemberg 620\, Bruxelles\, 1180\, Belgium
CATEGORIES:Yoga prénatal,Yogacqua prénatal
ATTACH;FMTTYPE=image/jpeg:https://idoflow.be/wp-content/uploads/2022/08/UNADJUSTEDNONRAW_thumb_50fc.jpg
ORGANIZER;CN="Giacomo":MAILTO:giacomo@idoflow.be
END:VEVENT
BEGIN:VEVENT
DTSTART;TZID=Europe/Brussels:20221002T190000
DTEND;TZID=Europe/Brussels:20221002T203000
DTSTAMP:20260426T001549
CREATED:20220818T135020Z
LAST-MODIFIED:20240913T144210Z
UID:5028-1664737200-1664742600@idoflow.be
SUMMARY:Yogacqua dimanche 2 octobre
DESCRIPTION:Allier les bienfaits du yoga et de l’eau chaude pour explorer le mouvement conscient et la détente. \nSéances d’une heure et demie\, sans prérequis\, dans un bassin chauffé privatisé. \nTarif : 35€ / séance\, 95€ / 3 séances\, 180€ / 6 séances\, 280€ / 10 séances \nInscription et infos supplémentaires
URL:https://idoflow.be/event/yogacqua-dimanche-2-octobre
LOCATION:Au bord de l’eau\, Chaussée d'Alsemberg 620\, Bruxelles\, 1180\, Belgium
CATEGORIES:Yoga,Yogacqua
ATTACH;FMTTYPE=image/jpeg:https://idoflow.be/wp-content/uploads/2021/09/202107_Yoga_191-scaled.jpg
ORGANIZER;CN="Giacomo":MAILTO:giacomo@idoflow.be
END:VEVENT
BEGIN:VEVENT
DTSTART;TZID=Europe/Brussels:20220928T194500
DTEND;TZID=Europe/Brussels:20220928T210000
DTSTAMP:20260426T001549
CREATED:20220828T174703Z
LAST-MODIFIED:20240913T144039Z
UID:5065-1664394300-1664398800@idoflow.be
SUMMARY:Yogacqua prénatal 28/09
DESCRIPTION:Allier les bienfaits du yoga prénatal et de l’eau chaude pour alléger la grossesse et préparer l’accouchement dans la détente. \nSéances d’une heure et quart\, sans prérequis\, dans un bassin chauffé privatisé. \nTarif : 30€ / séance\, 85€ / 3 séances\, 160€ / 6 séances\, 250€ / 10 séances \nPlus d’informations \nInscription
URL:https://idoflow.be/event/yogacqua-prenatal-2809
LOCATION:Au bord de l’eau\, Chaussée d'Alsemberg 620\, Bruxelles\, 1180\, Belgium
CATEGORIES:Yoga prénatal,Yogacqua prénatal
ATTACH;FMTTYPE=image/jpeg:https://idoflow.be/wp-content/uploads/2022/08/UNADJUSTEDNONRAW_thumb_50fc.jpg
ORGANIZER;CN="Giacomo":MAILTO:giacomo@idoflow.be
END:VEVENT
BEGIN:VEVENT
DTSTART;TZID=Europe/Brussels:20220925T190000
DTEND;TZID=Europe/Brussels:20220925T203000
DTSTAMP:20260426T001549
CREATED:20220818T134903Z
LAST-MODIFIED:20240913T144210Z
UID:5026-1664132400-1664137800@idoflow.be
SUMMARY:Yogacqua dimanche 25 septembre
DESCRIPTION:Allier les bienfaits du yoga et de l’eau chaude pour explorer le mouvement conscient et la détente. \nSéances d’une heure et demie\, sans prérequis\, dans un bassin chauffé privatisé. \nTarif : 35€ / séance\, 95€ / 3 séances\, 180€ / 6 séances\, 280€ / 10 séances \nInscription et infos supplémentaires
URL:https://idoflow.be/event/yogacqua-dimanche-25-septembre
LOCATION:Au bord de l’eau\, Chaussée d'Alsemberg 620\, Bruxelles\, 1180\, Belgium
CATEGORIES:Yoga,Yogacqua
ATTACH;FMTTYPE=image/jpeg:https://idoflow.be/wp-content/uploads/2021/09/202107_Yoga_191-scaled.jpg
ORGANIZER;CN="Giacomo":MAILTO:giacomo@idoflow.be
END:VEVENT
BEGIN:VEVENT
DTSTART;TZID=Europe/Brussels:20220924T140000
DTEND;TZID=Europe/Brussels:20220924T160000
DTSTAMP:20260426T001549
CREATED:20220910T143650Z
LAST-MODIFIED:20220910T143650Z
UID:5125-1664028000-1664035200@idoflow.be
SUMMARY:Relaxation Aquatique Re-Source 24/09
DESCRIPTION:Dans un bassin privatisé pour les membres de Re-source\, des thérapeutes vous proposent un moment de détente profonde. \nVous profitez des bienfaits d’une eau chauffée à 35° et de la joie d’être pleinement présent dans ce moment de détente. Libéré des contraintes de la gravité\, votre corps se laisse aller\, dénoué de toute tension. \nCet atelier de relaxation aquatique offre des temps de méditation\, de flottaison\, d’immersion aquatique\, de yoga\, … Un moment de (re)découverte de soi et de l’autre\, en apesanteur pendant 60 minutes. \nInformations : https://idoflow.be/vitalite\nInscriptions à info@re-source-delta.be \n 
URL:https://idoflow.be/event/relaxation-aquatique-re-source-2409
LOCATION:Au bord de l’eau\, Chaussée d'Alsemberg 620\, Bruxelles\, 1180\, Belgium
CATEGORIES:IDO Vitalité,Relaxation Aquatique
ATTACH;FMTTYPE=image/jpeg:https://idoflow.be/wp-content/uploads/2022/06/Relaxation-Aquatique.jpg
ORGANIZER;CN="Giacomo":MAILTO:giacomo@idoflow.be
END:VEVENT
BEGIN:VEVENT
DTSTART;TZID=Europe/Brussels:20220924T100000
DTEND;TZID=Europe/Brussels:20220924T123000
DTSTAMP:20260426T001549
CREATED:20220909T193443Z
LAST-MODIFIED:20220909T193443Z
UID:5112-1664013600-1664022600@idoflow.be
SUMMARY:Atelier Yogacqua terre & eau 24/09
DESCRIPTION:du tapis à l’eau chaude\, ateliers de 2h30 \nséance en salle\, suivie d’une séance dans l’eau\, sans prérequis \nTarif : 50€ / atelier
URL:https://idoflow.be/event/atelier-yogacqua-terre-eau-2409
LOCATION:Au bord de l’eau\, Chaussée d'Alsemberg 620\, Bruxelles\, 1180\, Belgium
CATEGORIES:Yoga,Yogacqua
ATTACH;FMTTYPE=image/jpeg:https://idoflow.be/wp-content/uploads/2021/09/202107_Yoga_161-scaled.jpg
ORGANIZER;CN="Giacomo":MAILTO:giacomo@idoflow.be
END:VEVENT
BEGIN:VEVENT
DTSTART;TZID=Europe/Brussels:20220917T130000
DTEND;TZID=Europe/Brussels:20220917T140000
DTSTAMP:20260426T001549
CREATED:20220909T192407Z
LAST-MODIFIED:20240913T144211Z
UID:5104-1663419600-1663423200@idoflow.be
SUMMARY:Relaxation Aquatique samedi 17/09
DESCRIPTION:séances d’introduction au mouvement et à la relaxation en eau chaude \ntarif : 25€ par séance \nInscription \n+ d’infos
URL:https://idoflow.be/event/relaxation-aquatique-samedi-1709
LOCATION:Au bord de l’eau\, Chaussée d'Alsemberg 620\, Bruxelles\, 1180\, Belgium
CATEGORIES:Relaxation Aquatique,Yogacqua
ATTACH;FMTTYPE=image/jpeg:https://idoflow.be/wp-content/uploads/2021/09/202107_Yoga_335-savasana-4-scaled.jpg
ORGANIZER;CN="Giacomo":MAILTO:giacomo@idoflow.be
END:VEVENT
BEGIN:VEVENT
DTSTART;TZID=Europe/Brussels:20220917T090000
DTEND;TZID=Europe/Brussels:20220918T130000
DTSTAMP:20260426T001549
CREATED:20220910T145514Z
LAST-MODIFIED:20220910T145514Z
UID:5139-1663405200-1663506000@idoflow.be
SUMMARY:En danse\, en transe dans l'eau (formation)
DESCRIPTION:Découvrez les bienfaits d’un soin en apesanteur \n> samedi 17/09 : 9h-13h30. 15h-18h \n> dimanche 18/09 : 9h-13h \nCes 1\,5 jours de formation sont la continuité du module qui s’est déroulé les 1 et 2.07.2022. \nCette formation a été pensée pour vous permettre de vous inscrire au second module\, même si vous n’avez pas participé au premier. \n  \nObjectifs pédagogiques \n• Acquérir les bases nécessaires pour proposer une consultation en milieu aquatique • Expérimenter et s’approprier un état perceptif thérapeutique pour s’enrichir de diagnostics et de traitements non-ordinaires. \n• Adapter son toucher selon l’attention portée: corps mécanique matière\, corps énergétique\, corps subtil. • Permettre au patient d’être acteur du processus de transformation en guidant sa conscience corporelle \n  \nPoints abordés \nExpérimenter différents états de présence et de conscience intentionnelle pendant une séance\, à travers nos mains\, notre posture et notre attitude \n• Savoir impulser et accompagner les mouvements libérateurs du corps • Spécificité des techniques articulaires\, faciales\, viscérales et neuro-méningées en milieu aquatique • Lecture des imprégnations informationnelles tissulaires dans les sphères bio-mécaniques\, viscérales et cérébrales. Analyse des liens existants\, recueil et analyse des informations. Traitement approprié.
URL:https://idoflow.be/event/en-danse-en-transe-dans-leau-formation
LOCATION:Au bord de l’eau\, Chaussée d'Alsemberg 620\, Bruxelles\, 1180\, Belgium
CATEGORIES:Ostéopathie aquatique
ATTACH;FMTTYPE=image/jpeg:https://idoflow.be/wp-content/uploads/2022/09/Event-Osteo-Aqua.jpg
ORGANIZER;CN="Louisiane":MAILTO:louisiane@idoflow.be
END:VEVENT
BEGIN:VEVENT
DTSTART;TZID=Europe/Brussels:20220916T150000
DTEND;TZID=Europe/Brussels:20220916T180000
DTSTAMP:20260426T001549
CREATED:20220910T144730Z
LAST-MODIFIED:20220910T145226Z
UID:5133-1663340400-1663351200@idoflow.be
SUMMARY:En danse\, en transe dans l'eau (atelier)
DESCRIPTION:Atelier ouvert à tous\n« Inspiré et guidé par ma pratique de l’ostéopathie dans l’eau\, j’intègre à ces enseignements les notions de danse et de transe.\nJe propose de partager et de vivre ces voyages aquatiques\, en partant d’une dimension physique\, en se laissant aller vers une dimension plus spirituelle.\nDanser pour ressentir les mouvements de vie s’exprimer en soi.\nEntrer en transe pour faciliter la libre circulation des énergies de vie. » \nprogramme détaillé sur demande ou sur www.eausteo.com\nmail: ludosteo@orange.fr
URL:https://idoflow.be/event/en-danse-en-transe-dans-leau-atelier
LOCATION:Au bord de l’eau\, Chaussée d'Alsemberg 620\, Bruxelles\, 1180\, Belgium
CATEGORIES:Ostéopathie aquatique
ATTACH;FMTTYPE=image/jpeg:https://idoflow.be/wp-content/uploads/2022/09/Event-Osteo-Aqua.jpg
ORGANIZER;CN="Louisiane":MAILTO:louisiane@idoflow.be
END:VEVENT
BEGIN:VEVENT
DTSTART;TZID=Europe/Brussels:20220914T194500
DTEND;TZID=Europe/Brussels:20220914T210000
DTSTAMP:20260426T001549
CREATED:20220828T174514Z
LAST-MODIFIED:20240913T144039Z
UID:5059-1663184700-1663189200@idoflow.be
SUMMARY:Yogacqua prénatal 14/09
DESCRIPTION:Allier les bienfaits du yoga prénatal et de l’eau chaude pour alléger la grossesse et préparer l’accouchement dans la détente. \nSéances d’une heure et quart\, sans prérequis\, dans un bassin chauffé privatisé. \nTarif : 30€ / séance\, 85€ / 3 séances\, 160€ / 6 séances\, 250€ / 10 séances \nPlus d’informations \nInscription
URL:https://idoflow.be/event/yogacqua-prenatal-1409
LOCATION:Au bord de l’eau\, Chaussée d'Alsemberg 620\, Bruxelles\, 1180\, Belgium
CATEGORIES:Yoga prénatal,Yogacqua prénatal
ATTACH;FMTTYPE=image/jpeg:https://idoflow.be/wp-content/uploads/2022/08/UNADJUSTEDNONRAW_thumb_50fc.jpg
ORGANIZER;CN="Giacomo":MAILTO:giacomo@idoflow.be
END:VEVENT
BEGIN:VEVENT
DTSTART;TZID=Europe/Brussels:20220911T190000
DTEND;TZID=Europe/Brussels:20220911T203000
DTSTAMP:20260426T001549
CREATED:20220818T134732Z
LAST-MODIFIED:20240913T144210Z
UID:5024-1662922800-1662928200@idoflow.be
SUMMARY:Yogacqua dimanche 11 septembre
DESCRIPTION:Allier les bienfaits du yoga et de l’eau chaude pour explorer le mouvement conscient et la détente. \nSéances d’une heure et demie\, sans prérequis\, dans un bassin chauffé privatisé. \nTarif : 35€ / séance\, 95€ / 3 séances\, 180€ / 6 séances\, 280€ / 10 séances \nInscription et infos supplémentaires
URL:https://idoflow.be/event/yogacqua-dimanche-11-septembre
LOCATION:Au bord de l’eau\, Chaussée d'Alsemberg 620\, Bruxelles\, 1180\, Belgium
CATEGORIES:Yoga,Yogacqua
ATTACH;FMTTYPE=image/jpeg:https://idoflow.be/wp-content/uploads/2021/09/202107_Yoga_191-scaled.jpg
ORGANIZER;CN="Giacomo":MAILTO:giacomo@idoflow.be
END:VEVENT
BEGIN:VEVENT
DTSTART;TZID=Europe/Brussels:20220904T190000
DTEND;TZID=Europe/Brussels:20220904T203000
DTSTAMP:20260426T001549
CREATED:20220818T134541Z
LAST-MODIFIED:20220818T134541Z
UID:5022-1662318000-1662323400@idoflow.be
SUMMARY:Yogacqua dimanche 4 septembre
DESCRIPTION:Allier les bienfaits du yoga et de l’eau chaude pour explorer le mouvement conscient et la détente. \nSéances d’une heure et demie\, sans prérequis\, dans un bassin chauffé privatisé. \nTarif : 35€ / séance\, 95€ / 3 séances\, 180€ / 6 séances\, 280€ / 10 séances \n 
URL:https://idoflow.be/event/yogacqua-dimanche-4-septembre
LOCATION:Au bord de l’eau\, Chaussée d'Alsemberg 620\, Bruxelles\, 1180\, Belgium
CATEGORIES:Yoga,Yogacqua
ATTACH;FMTTYPE=image/jpeg:https://idoflow.be/wp-content/uploads/2021/09/202107_Yoga_191-scaled.jpg
ORGANIZER;CN="Giacomo":MAILTO:giacomo@idoflow.be
END:VEVENT
BEGIN:VEVENT
DTSTART;TZID=Europe/Brussels:20220830T133000
DTEND;TZID=Europe/Brussels:20220830T150000
DTSTAMP:20260426T001549
CREATED:20220628T092825Z
LAST-MODIFIED:20220628T092825Z
UID:4916-1661866200-1661871600@idoflow.be
SUMMARY:Relaxation Aquatique Re-Source 2
DESCRIPTION:Cette séance de relaxation aquatique vous offre un moment de (re)découverte de vous-même\, et de détente. Vous profitez des bienfaits de l’eau et de la joie d’être pleinement présent(e). Cet atelier inclut des propositions de méditation\, de yoga\, de flottaison\, d’immersion subaquatique\, etc.
URL:https://idoflow.be/event/relaxation-aquatique-re-source-2
LOCATION:Au bord de l’eau\, Chaussée d'Alsemberg 620\, Bruxelles\, 1180\, Belgium
CATEGORIES:IDO Vitalité,Relaxation Aquatique
ATTACH;FMTTYPE=image/jpeg:https://idoflow.be/wp-content/uploads/2022/06/Relaxation-Aquatique.jpg
ORGANIZER;CN="Louisiane":MAILTO:louisiane@idoflow.be
END:VEVENT
BEGIN:VEVENT
DTSTART;TZID=Europe/Brussels:20220703T160000
DTEND;TZID=Europe/Brussels:20220703T173000
DTSTAMP:20260426T001549
CREATED:20220628T092237Z
LAST-MODIFIED:20220628T092421Z
UID:4912-1656864000-1656869400@idoflow.be
SUMMARY:Relaxation Aquatique Re-Source 1
DESCRIPTION:Cette séance de relaxation aquatique vous offre un moment de (re)découverte de vous-même\, et de détente. Vous profitez des bienfaits de l’eau et de la joie d’être pleinement présent(e). Cet atelier inclut des propositions de méditation\, de yoga\, de flottaison\, d’immersion subaquatique\, etc.
URL:https://idoflow.be/event/relaxation-aquatique-re-source-1
LOCATION:Au bord de l’eau\, Chaussée d'Alsemberg 620\, Bruxelles\, 1180\, Belgium
CATEGORIES:IDO Vitalité,Relaxation Aquatique
ATTACH;FMTTYPE=image/jpeg:https://idoflow.be/wp-content/uploads/2022/06/Relaxation-Aquatique.jpg
END:VEVENT
BEGIN:VEVENT
DTSTART;TZID=Europe/Brussels:20220626T190000
DTEND;TZID=Europe/Brussels:20220626T203000
DTSTAMP:20260426T001549
CREATED:20220402T175849Z
LAST-MODIFIED:20240913T144210Z
UID:4790-1656270000-1656275400@idoflow.be
SUMMARY:Yogacqua 26 juin
DESCRIPTION:Allier les bienfaits du yoga et de l’eau chaude pour explorer le mouvement conscient et la détente. \nSéances d’une heure et demie\, sans prérequis. \nTarif : 35€ / séance \nInscription
URL:https://idoflow.be/event/yogacqua-26-juin
LOCATION:Au bord de l’eau\, Chaussée d'Alsemberg 620\, Bruxelles\, 1180\, Belgium
CATEGORIES:Yoga,Yogacqua
ATTACH;FMTTYPE=image/jpeg:https://idoflow.be/wp-content/uploads/2021/09/202107_Yoga_189-scaled.jpg
ORGANIZER;CN="Giacomo":MAILTO:giacomo@idoflow.be
END:VEVENT
BEGIN:VEVENT
DTSTART;TZID=Europe/Brussels:20220612T190000
DTEND;TZID=Europe/Brussels:20220612T203000
DTSTAMP:20260426T001549
CREATED:20220402T175735Z
LAST-MODIFIED:20240913T144210Z
UID:4788-1655060400-1655065800@idoflow.be
SUMMARY:Yogacqua 12 juin
DESCRIPTION:Allier les bienfaits du yoga et de l’eau chaude pour explorer le mouvement conscient et la détente. \nSéances d’une heure et demie\, sans prérequis. \nTarif : 35€ / séance \nInscription
URL:https://idoflow.be/event/yogacqua-12-juin
LOCATION:Au bord de l’eau\, Chaussée d'Alsemberg 620\, Bruxelles\, 1180\, Belgium
CATEGORIES:Yoga,Yogacqua
ATTACH;FMTTYPE=image/jpeg:https://idoflow.be/wp-content/uploads/2021/09/202107_Yoga_189-scaled.jpg
ORGANIZER;CN="Giacomo":MAILTO:giacomo@idoflow.be
END:VEVENT
BEGIN:VEVENT
DTSTART;TZID=Europe/Brussels:20220612T160000
DTEND;TZID=Europe/Brussels:20220612T170000
DTSTAMP:20260426T001549
CREATED:20220530T094238Z
LAST-MODIFIED:20220530T094238Z
UID:4852-1655049600-1655053200@idoflow.be
SUMMARY:Séance découverte Relaxation Aquatique
DESCRIPTION:À l’occasion du parcours bien-être de Bruxelles\, je vous propose une séance pour découvrir la relaxation aquatique à tarif réduit. \nDécouvrez l’apesanteur et expérimentez une profonde détente en vous laissant flotter dans l’eau à 35°C. \ndimanche 12 juin de 16h à 17h \nTarif : 20€ / personne (comprend l’accès à la piscine)
URL:https://idoflow.be/event/seance-decouverte-relaxation-aquatique
LOCATION:Au bord de l’eau\, Chaussée d'Alsemberg 620\, Bruxelles\, 1180\, Belgium
CATEGORIES:Yogacqua
ATTACH;FMTTYPE=image/png:https://idoflow.be/wp-content/uploads/2022/05/event-cover-relaxation-aquatique-parcours-bien-etre.png
ORGANIZER;CN="Giacomo":MAILTO:giacomo@idoflow.be
END:VEVENT
BEGIN:VEVENT
DTSTART;TZID=Europe/Brussels:20220611T123000
DTEND;TZID=Europe/Brussels:20220611T133000
DTSTAMP:20260426T001549
CREATED:20220530T093357Z
LAST-MODIFIED:20220530T093503Z
UID:4844-1654950600-1654954200@idoflow.be
SUMMARY:Séance découverte Yogacqua
DESCRIPTION:À l’occasion du parcours bien-être de Bruxelles\, je vous propose une séance pour découvrir le yoga en eau chaude à tarif réduit. \nExplorez le mouvement et l’immobilité\, l’équilibre et la détente en vous laissant guider par l’eau. \nsamedi 11 juin de 12h30 à 13h30 \nTarif : 20€ / personne (comprend l’accès à la piscine)
URL:https://idoflow.be/event/seance-decouverte-yogacqua
LOCATION:Au bord de l’eau\, Chaussée d'Alsemberg 620\, Bruxelles\, 1180\, Belgium
CATEGORIES:Yoga,Yogacqua
ATTACH;FMTTYPE=image/png:https://idoflow.be/wp-content/uploads/2022/05/event-cover-yogacqua-parcours-bien-etre.png
ORGANIZER;CN="Giacomo":MAILTO:giacomo@idoflow.be
END:VEVENT
BEGIN:VEVENT
DTSTART;TZID=Europe/Brussels:20220605T190000
DTEND;TZID=Europe/Brussels:20220605T203000
DTSTAMP:20260426T001549
CREATED:20220402T175629Z
LAST-MODIFIED:20240913T144210Z
UID:4786-1654455600-1654461000@idoflow.be
SUMMARY:Yogacqua 5 juin
DESCRIPTION:Allier les bienfaits du yoga et de l’eau chaude pour explorer le mouvement conscient et la détente. \nSéances d’une heure et demie\, sans prérequis. \nTarif : 35€ / séance \nInscription
URL:https://idoflow.be/event/yogacqua-5-juin
LOCATION:Au bord de l’eau\, Chaussée d'Alsemberg 620\, Bruxelles\, 1180\, Belgium
CATEGORIES:Yoga,Yogacqua
ATTACH;FMTTYPE=image/jpeg:https://idoflow.be/wp-content/uploads/2021/09/202107_Yoga_189-scaled.jpg
ORGANIZER;CN="Giacomo":MAILTO:giacomo@idoflow.be
END:VEVENT
BEGIN:VEVENT
DTSTART;TZID=Europe/Brussels:20220529T190000
DTEND;TZID=Europe/Brussels:20220529T203000
DTSTAMP:20260426T001549
CREATED:20220402T175511Z
LAST-MODIFIED:20240913T144210Z
UID:4784-1653850800-1653856200@idoflow.be
SUMMARY:Yogacqua 29 mai
DESCRIPTION:Allier les bienfaits du yoga et de l’eau chaude pour explorer le mouvement conscient et la détente. \nSéances d’une heure et demie\, sans prérequis. \nTarif : 35€ / séance \nInscription
URL:https://idoflow.be/event/yogacqua-29-mai
LOCATION:Au bord de l’eau\, Chaussée d'Alsemberg 620\, Bruxelles\, 1180\, Belgium
CATEGORIES:Yoga,Yogacqua
ATTACH;FMTTYPE=image/jpeg:https://idoflow.be/wp-content/uploads/2021/09/202107_Yoga_189-scaled.jpg
ORGANIZER;CN="Giacomo":MAILTO:giacomo@idoflow.be
END:VEVENT
BEGIN:VEVENT
DTSTART;TZID=Europe/Brussels:20220515T190000
DTEND;TZID=Europe/Brussels:20220515T203000
DTSTAMP:20260426T001549
CREATED:20220402T175317Z
LAST-MODIFIED:20240913T144210Z
UID:4782-1652641200-1652646600@idoflow.be
SUMMARY:Yogacqua 15 mai
DESCRIPTION:Allier les bienfaits du yoga et de l’eau chaude pour explorer le mouvement conscient et la détente. \nSéances d’une heure et demie\, sans prérequis. \nTarif : 35€ / séance \nInscription
URL:https://idoflow.be/event/yogacqua-15-mai
LOCATION:Au bord de l’eau\, Chaussée d'Alsemberg 620\, Bruxelles\, 1180\, Belgium
CATEGORIES:Yoga,Yogacqua
ATTACH;FMTTYPE=image/jpeg:https://idoflow.be/wp-content/uploads/2021/09/202107_Yoga_189-scaled.jpg
ORGANIZER;CN="Giacomo":MAILTO:giacomo@idoflow.be
END:VEVENT
BEGIN:VEVENT
DTSTART;TZID=Europe/Brussels:20220513T090000
DTEND;TZID=Europe/Brussels:20220515T180000
DTSTAMP:20260426T001549
CREATED:20220119T191650Z
LAST-MODIFIED:20220119T191650Z
UID:4677-1652432400-1652637600@idoflow.be
SUMMARY:Formation TERRE et EAU: Shiatsu pour pratiques aquatiques Module 2
DESCRIPTION:Découvrir au sol les grands principes du shiatsu et de la médecine traditionnelle japonaise pour les appliquer dans les soins aquatiques. \n9h-18h pendant 3 jours \n+ d’infos : \nlouisiane@idoflow.be
URL:https://idoflow.be/event/formation-terre-et-eau-shiatsu-pour-pratiques-aquatiques-module-2
LOCATION:Au bord de l’eau\, Chaussée d'Alsemberg 620\, Bruxelles\, 1180\, Belgium
CATEGORIES:Shiatsu
ATTACH;FMTTYPE=image/jpeg:https://idoflow.be/wp-content/uploads/2021/10/Shiatsu-01-scaled.jpg
ORGANIZER;CN="Louisiane":MAILTO:louisiane@idoflow.be
END:VEVENT
BEGIN:VEVENT
DTSTART;TZID=Europe/Brussels:20220424T190000
DTEND;TZID=Europe/Brussels:20220424T203000
DTSTAMP:20260426T001549
CREATED:20220402T175145Z
LAST-MODIFIED:20240913T144210Z
UID:4780-1650826800-1650832200@idoflow.be
SUMMARY:Yogacqua 24 avril
DESCRIPTION:Allier les bienfaits du yoga et de l’eau chaude pour explorer le mouvement conscient et la détente. \nSéances d’une heure et demie\, sans prérequis. \nTarif : 35€ / séance \nInscription
URL:https://idoflow.be/event/yogacqua-24-avril
LOCATION:Au bord de l’eau\, Chaussée d'Alsemberg 620\, Bruxelles\, 1180\, Belgium
CATEGORIES:Yoga,Yogacqua
ATTACH;FMTTYPE=image/jpeg:https://idoflow.be/wp-content/uploads/2021/09/202107_Yoga_189-scaled.jpg
ORGANIZER;CN="Giacomo":MAILTO:giacomo@idoflow.be
END:VEVENT
BEGIN:VEVENT
DTSTART;TZID=Europe/Brussels:20220403T190000
DTEND;TZID=Europe/Brussels:20220403T203000
DTSTAMP:20260426T001549
CREATED:20220331T110436Z
LAST-MODIFIED:20241114T184802Z
UID:4778-1649012400-1649017800@idoflow.be
SUMMARY:Yogacqua 3 avril
DESCRIPTION:Allier les bienfaits du yoga et de l’eau chaude pour explorer le mouvement conscient et la détente. \nSéances d’une heure et demie\, sans prérequis. \nTarif : 35€ / séance \nInscription
URL:https://idoflow.be/event/yogacqua-3-avril
LOCATION:Au bord de l’eau\, Chaussée d'Alsemberg 620\, Bruxelles\, 1180\, Belgium
CATEGORIES:Yoga,Yogacqua
ATTACH;FMTTYPE=image/jpeg:https://idoflow.be/wp-content/uploads/2021/09/202107_Yoga_189-scaled.jpg
ORGANIZER;CN="Giacomo":MAILTO:giacomo@idoflow.be
END:VEVENT
BEGIN:VEVENT
DTSTART;TZID=Europe/Brussels:20220320T190000
DTEND;TZID=Europe/Brussels:20220320T203000
DTSTAMP:20260426T001549
CREATED:20220106T184839Z
LAST-MODIFIED:20240913T144209Z
UID:4669-1647802800-1647808200@idoflow.be
SUMMARY:Yogacqua - yoga en eau chaude
DESCRIPTION:Allier les bienfaits du yoga et de l’eau chaude pour explorer le mouvement conscient et la détente. \nSéances d’une heure et demie\, sans prérequis. \nTarif : 35€ / séance \nInscription
URL:https://idoflow.be/event/yogacqua-yoga-en-eau-chaude
LOCATION:Au bord de l’eau\, Chaussée d'Alsemberg 620\, Bruxelles\, 1180\, Belgium
CATEGORIES:Yoga,Yogacqua
ATTACH;FMTTYPE=image/jpeg:https://idoflow.be/wp-content/uploads/2021/09/202107_Yoga_191-scaled.jpg
ORGANIZER;CN="Giacomo":MAILTO:giacomo@idoflow.be
END:VEVENT
END:VCALENDAR