BEGIN:VCALENDAR
VERSION:2.0
PRODID:-//IDO - ECPv6.15.20//NONSGML v1.0//EN
CALSCALE:GREGORIAN
METHOD:PUBLISH
X-ORIGINAL-URL:https://idoflow.be
X-WR-CALDESC:Évènements pour IDO
REFRESH-INTERVAL;VALUE=DURATION:PT1H
X-Robots-Tag:noindex
X-PUBLISHED-TTL:PT1H
BEGIN:VTIMEZONE
TZID:Europe/Brussels
BEGIN:DAYLIGHT
TZOFFSETFROM:+0100
TZOFFSETTO:+0200
TZNAME:CEST
DTSTART:20210328T010000
END:DAYLIGHT
BEGIN:STANDARD
TZOFFSETFROM:+0200
TZOFFSETTO:+0100
TZNAME:CET
DTSTART:20211031T010000
END:STANDARD
BEGIN:DAYLIGHT
TZOFFSETFROM:+0100
TZOFFSETTO:+0200
TZNAME:CEST
DTSTART:20220327T010000
END:DAYLIGHT
BEGIN:STANDARD
TZOFFSETFROM:+0200
TZOFFSETTO:+0100
TZNAME:CET
DTSTART:20221030T010000
END:STANDARD
BEGIN:DAYLIGHT
TZOFFSETFROM:+0100
TZOFFSETTO:+0200
TZNAME:CEST
DTSTART:20230326T010000
END:DAYLIGHT
BEGIN:STANDARD
TZOFFSETFROM:+0200
TZOFFSETTO:+0100
TZNAME:CET
DTSTART:20231029T010000
END:STANDARD
BEGIN:DAYLIGHT
TZOFFSETFROM:+0100
TZOFFSETTO:+0200
TZNAME:CEST
DTSTART:20240331T010000
END:DAYLIGHT
BEGIN:STANDARD
TZOFFSETFROM:+0200
TZOFFSETTO:+0100
TZNAME:CET
DTSTART:20241027T010000
END:STANDARD
END:VTIMEZONE
BEGIN:VEVENT
DTSTART;TZID=Europe/Brussels:20230215T194500
DTEND;TZID=Europe/Brussels:20230215T210000
DTSTAMP:20260425T142426
CREATED:20230102T180912Z
LAST-MODIFIED:20240913T144152Z
UID:5930-1676490300-1676494800@idoflow.be
SUMMARY:Yogacqua prénatal 15/02
DESCRIPTION:Yoga prénatal en eau chaude : allier les bienfaits du yoga et de l’eau pour accompagner la grossesse. \nSéance d’une heure et quart\, sans aucun prérequis. \nTarif : 1 séance = 30€\, 3 séances* = 85€\, 6 séances* = 160€\, 10 séances* = 250€ \n*Les paquets sont valables 3 mois \nInscription
URL:https://idoflow.be/event/yogacqua-prenatal-1502
LOCATION:Au bord de l’eau\, Chaussée d'Alsemberg 620\, Bruxelles\, 1180\, Belgium
CATEGORIES:Yoga prénatal,Yogacqua prénatal
ATTACH;FMTTYPE=image/jpeg:https://idoflow.be/wp-content/uploads/2022/08/DSCN3676-scaled.jpg
ORGANIZER;CN="Giacomo":MAILTO:giacomo@idoflow.be
END:VEVENT
BEGIN:VEVENT
DTSTART;TZID=Europe/Brussels:20230212T190000
DTEND;TZID=Europe/Brussels:20230212T203000
DTSTAMP:20260425T142426
CREATED:20230103T170728Z
LAST-MODIFIED:20240913T144212Z
UID:5965-1676228400-1676233800@idoflow.be
SUMMARY:Yogacqua 12/02
DESCRIPTION:Yogacqua – yoga en eau chaude : allier les bienfaits du yoga et de l’eau chaude pour explorer le mouvement conscient et la détente. \nSéances d’une heure et demie\, sans prérequis. \nTarif : 1 séance = 35€\, 3 séances* = 95€\, 6 séances* = 180€\, 10 séances* = 280€ \n*paquets valables 3 mois \nInscription
URL:https://idoflow.be/event/yogacqua-1202
LOCATION:Au bord de l’eau\, Chaussée d'Alsemberg 620\, Bruxelles\, 1180\, Belgium
CATEGORIES:Yogacqua
ATTACH;FMTTYPE=image/jpeg:https://idoflow.be/wp-content/uploads/2021/09/202107_Yoga_191-scaled.jpg
ORGANIZER;CN="Giacomo":MAILTO:giacomo@idoflow.be
END:VEVENT
BEGIN:VEVENT
DTSTART;TZID=Europe/Brussels:20230205T190000
DTEND;TZID=Europe/Brussels:20230205T203000
DTSTAMP:20260425T142426
CREATED:20230103T170543Z
LAST-MODIFIED:20240913T144212Z
UID:5962-1675623600-1675629000@idoflow.be
SUMMARY:Yogacqua 05/02
DESCRIPTION:Yogacqua – yoga en eau chaude : allier les bienfaits du yoga et de l’eau chaude pour explorer le mouvement conscient et la détente. \nSéances d’une heure et demie\, sans prérequis. \nTarif : 1 séance = 35€\, 3 séances* = 95€\, 6 séances* = 180€\, 10 séances* = 280€ \n*paquets valables 3 mois \nInscription
URL:https://idoflow.be/event/yogacqua-0502
LOCATION:Au bord de l’eau\, Chaussée d'Alsemberg 620\, Bruxelles\, 1180\, Belgium
CATEGORIES:Yogacqua
ATTACH;FMTTYPE=image/jpeg:https://idoflow.be/wp-content/uploads/2021/09/202107_Yoga_191-scaled.jpg
ORGANIZER;CN="Giacomo":MAILTO:giacomo@idoflow.be
END:VEVENT
BEGIN:VEVENT
DTSTART;TZID=Europe/Brussels:20230201T194500
DTEND;TZID=Europe/Brussels:20230201T210000
DTSTAMP:20260425T142426
CREATED:20230102T180751Z
LAST-MODIFIED:20240913T144152Z
UID:5928-1675280700-1675285200@idoflow.be
SUMMARY:Yogacqua prénatal 01/02
DESCRIPTION:Yoga prénatal en eau chaude : allier les bienfaits du yoga et de l’eau pour accompagner la grossesse. \nSéance d’une heure et quart\, sans aucun prérequis. \nTarif : 1 séance = 30€\, 3 séances* = 85€\, 6 séances* = 160€\, 10 séances* = 250€ \n*Les paquets sont valables 3 mois \nInscription
URL:https://idoflow.be/event/yogacqua-prenatal-0102
LOCATION:Au bord de l’eau\, Chaussée d'Alsemberg 620\, Bruxelles\, 1180\, Belgium
CATEGORIES:Yoga prénatal,Yogacqua prénatal
ATTACH;FMTTYPE=image/jpeg:https://idoflow.be/wp-content/uploads/2022/08/DSCN3676-scaled.jpg
ORGANIZER;CN="Giacomo":MAILTO:giacomo@idoflow.be
END:VEVENT
BEGIN:VEVENT
DTSTART;TZID=Europe/Brussels:20230122T190000
DTEND;TZID=Europe/Brussels:20230122T203000
DTSTAMP:20260425T142426
CREATED:20230103T165944Z
LAST-MODIFIED:20240913T144212Z
UID:5956-1674414000-1674419400@idoflow.be
SUMMARY:Yogacqua 22/01
DESCRIPTION:Yogacqua – yoga en eau chaude : allier les bienfaits du yoga et de l’eau chaude pour explorer le mouvement conscient et la détente. \nSéances d’une heure et demie\, sans prérequis. \nTarif : 1 séance = 35€\, 3 séances* = 95€\, 6 séances* = 180€\, 10 séances* = 280€ \n*paquets valables 3 mois \nInscription
URL:https://idoflow.be/event/yogacqua-2201
LOCATION:Au bord de l’eau\, Chaussée d'Alsemberg 620\, Bruxelles\, 1180\, Belgium
CATEGORIES:Yogacqua
ATTACH;FMTTYPE=image/jpeg:https://idoflow.be/wp-content/uploads/2021/09/202107_Yoga_191-scaled.jpg
ORGANIZER;CN="Giacomo":MAILTO:giacomo@idoflow.be
END:VEVENT
BEGIN:VEVENT
DTSTART;TZID=Europe/Brussels:20230121T133000
DTEND;TZID=Europe/Brussels:20230121T143000
DTSTAMP:20260425T142426
CREATED:20230108T150710Z
LAST-MODIFIED:20230108T150710Z
UID:5999-1674307800-1674311400@idoflow.be
SUMMARY:Relaxation aquatique samedi 21 janvier
DESCRIPTION:Une séance ouverte à toutes et tous\, pour délier et détendre le corps dans l’eau. \nTarif : 20€
URL:https://idoflow.be/event/relaxation-aquatique-samedi-21-janvier
LOCATION:Au bord de l’eau\, Chaussée d'Alsemberg 620\, Bruxelles\, 1180\, Belgium
CATEGORIES:Relaxation Aquatique
ATTACH;FMTTYPE=image/jpeg:https://idoflow.be/wp-content/uploads/2021/09/202107_Yoga_335-savasana-4-scaled.jpg
ORGANIZER;CN="Giacomo":MAILTO:giacomo@idoflow.be
END:VEVENT
BEGIN:VEVENT
DTSTART;TZID=Europe/Brussels:20230118T194500
DTEND;TZID=Europe/Brussels:20230118T210000
DTSTAMP:20260425T142426
CREATED:20230102T180625Z
LAST-MODIFIED:20240913T144152Z
UID:5926-1674071100-1674075600@idoflow.be
SUMMARY:Yogacqua prénatal 18/01
DESCRIPTION:Yoga prénatal en eau chaude : allier les bienfaits du yoga et de l’eau pour accompagner la grossesse. \nSéance d’une heure et quart\, sans aucun prérequis. \nTarif : 1 séance = 30€\, 3 séances* = 85€\, 6 séances* = 160€\, 10 séances* = 250€ \n*Les paquets sont valables 3 mois \nInscription
URL:https://idoflow.be/event/yogacqua-prenatal-1801
LOCATION:Au bord de l’eau\, Chaussée d'Alsemberg 620\, Bruxelles\, 1180\, Belgium
CATEGORIES:Yoga prénatal,Yogacqua prénatal
ATTACH;FMTTYPE=image/jpeg:https://idoflow.be/wp-content/uploads/2022/08/DSCN3676-scaled.jpg
ORGANIZER;CN="Giacomo":MAILTO:giacomo@idoflow.be
END:VEVENT
BEGIN:VEVENT
DTSTART;TZID=Europe/Brussels:20230115T190000
DTEND;TZID=Europe/Brussels:20230115T203000
DTSTAMP:20260425T142426
CREATED:20230103T165829Z
LAST-MODIFIED:20240913T144212Z
UID:5953-1673809200-1673814600@idoflow.be
SUMMARY:Yogacqua 15/01
DESCRIPTION:Yogacqua – yoga en eau chaude : allier les bienfaits du yoga et de l’eau chaude pour explorer le mouvement conscient et la détente. \nSéances d’une heure et demie\, sans prérequis. \nTarif : 1 séance = 35€\, 3 séances* = 95€\, 6 séances* = 180€\, 10 séances* = 280€ \n*paquets valables 3 mois \nInscription
URL:https://idoflow.be/event/yogacqua-1501
LOCATION:Au bord de l’eau\, Chaussée d'Alsemberg 620\, Bruxelles\, 1180\, Belgium
CATEGORIES:Yogacqua
ATTACH;FMTTYPE=image/jpeg:https://idoflow.be/wp-content/uploads/2021/09/202107_Yoga_191-scaled.jpg
ORGANIZER;CN="Giacomo":MAILTO:giacomo@idoflow.be
END:VEVENT
BEGIN:VEVENT
DTSTART;TZID=Europe/Brussels:20230111T194500
DTEND;TZID=Europe/Brussels:20230111T210000
DTSTAMP:20260425T142426
CREATED:20230102T175410Z
LAST-MODIFIED:20240913T144152Z
UID:5924-1673466300-1673470800@idoflow.be
SUMMARY:Yogacqua prénatal 11/01
DESCRIPTION:Yoga prénatal en eau chaude : allier les bienfaits du yoga et de l’eau pour accompagner la grossesse. \nSéance d’une heure et quart\, sans aucun prérequis. \nTarif : 1 séance = 30€\, 3 séances* = 85€\, 6 séances* = 160€\, 10 séances* = 250€ \n*Les paquets sont valables 3 mois \nInscription
URL:https://idoflow.be/event/yogacqua-prenatal-1101
LOCATION:Au bord de l’eau\, Chaussée d'Alsemberg 620\, Bruxelles\, 1180\, Belgium
CATEGORIES:Yoga,Yoga prénatal,Yogacqua prénatal
ATTACH;FMTTYPE=image/jpeg:https://idoflow.be/wp-content/uploads/2022/08/DSCN3676-scaled.jpg
ORGANIZER;CN="Giacomo":MAILTO:giacomo@idoflow.be
END:VEVENT
BEGIN:VEVENT
DTSTART;TZID=Europe/Brussels:20230108T190000
DTEND;TZID=Europe/Brussels:20230108T203000
DTSTAMP:20260425T142426
CREATED:20230103T165639Z
LAST-MODIFIED:20240913T144212Z
UID:5950-1673204400-1673209800@idoflow.be
SUMMARY:Yogacqua 08/01
DESCRIPTION:Yogacqua – yoga en eau chaude : allier les bienfaits du yoga et de l’eau chaude pour explorer le mouvement conscient et la détente. \nSéances d’une heure et demie\, sans prérequis. \nTarif : 1 séance = 35€\, 3 séances* = 95€\, 6 séances* = 180€\, 10 séances* = 280€ \n*paquets valables 3 mois \nInscription
URL:https://idoflow.be/event/yogacqua-0801
LOCATION:Au bord de l’eau\, Chaussée d'Alsemberg 620\, Bruxelles\, 1180\, Belgium
CATEGORIES:Yoga,Yogacqua
ATTACH;FMTTYPE=image/jpeg:https://idoflow.be/wp-content/uploads/2021/09/202107_Yoga_191-scaled.jpg
ORGANIZER;CN="Giacomo":MAILTO:giacomo@idoflow.be
END:VEVENT
BEGIN:VEVENT
DTSTART;TZID=Europe/Brussels:20221217T100000
DTEND;TZID=Europe/Brussels:20221217T123000
DTSTAMP:20260425T142426
CREATED:20220909T193933Z
LAST-MODIFIED:20220909T193933Z
UID:5118-1671271200-1671280200@idoflow.be
SUMMARY:Atelier Yogacqua terre & eau 17/12
DESCRIPTION:du tapis à l’eau chaude\, ateliers de 2h30 \nséance en salle\, suivie d’une séance dans l’eau\, sans prérequis \nTarif : 50€ / atelier
URL:https://idoflow.be/event/atelier-yogacqua-terre-eau-1712
LOCATION:Au bord de l’eau\, Chaussée d'Alsemberg 620\, Bruxelles\, 1180\, Belgium
CATEGORIES:Yoga,Yogacqua
ATTACH;FMTTYPE=image/jpeg:https://idoflow.be/wp-content/uploads/2021/09/202107_Yoga_161-scaled.jpg
ORGANIZER;CN="Giacomo":MAILTO:giacomo@idoflow.be
END:VEVENT
BEGIN:VEVENT
DTSTART;TZID=Europe/Brussels:20221215T113000
DTEND;TZID=Europe/Brussels:20221215T133000
DTSTAMP:20260425T142426
CREATED:20220910T144310Z
LAST-MODIFIED:20220910T144310Z
UID:5131-1671103800-1671111000@idoflow.be
SUMMARY:Relaxation Aquatique Re-Source 15/12
DESCRIPTION:Dans un bassin privatisé pour les membres de Re-source\, des thérapeutes vous proposent un moment de détente profonde. \nVous profitez des bienfaits d’une eau chauffée à 35° et de la joie d’être pleinement présent dans ce moment de détente. Libéré des contraintes de la gravité\, votre corps se laisse aller\, dénoué de toute tension. \nCet atelier de relaxation aquatique offre des temps de méditation\, de flottaison\, d’immersion aquatique\, de yoga\, … Un moment de (re)découverte de soi et de l’autre\, en apesanteur pendant 60 minutes. \nL’équipe d’Annick Debaize\, Kinésithérapeute à Delta\, rassemble des praticiens aquatiques professionnels certifiés et engagés dans l’accompagnement thérapeutique. \n(1 heure dans l’eau pour un groupe de 8 personnes)\nBassin « Au bord de l’Eau »\, chée d’Alsemberg 620 à Uccle \nInformations : https://idoflow.be/vitalite\nInscriptions à info@re-source-delta.be
URL:https://idoflow.be/event/relaxation-aquatique-re-source-1512
LOCATION:Au bord de l’eau\, Chaussée d'Alsemberg 620\, Bruxelles\, 1180\, Belgium
CATEGORIES:IDO Vitalité,Relaxation Aquatique
ATTACH;FMTTYPE=image/jpeg:https://idoflow.be/wp-content/uploads/2022/06/Relaxation-Aquatique.jpg
ORGANIZER;CN="Louisiane":MAILTO:louisiane@idoflow.be
END:VEVENT
BEGIN:VEVENT
DTSTART;TZID=Europe/Brussels:20221203T110000
DTEND;TZID=Europe/Brussels:20221203T120000
DTSTAMP:20260425T142426
CREATED:20220909T192921Z
LAST-MODIFIED:20240913T144212Z
UID:5110-1670065200-1670068800@idoflow.be
SUMMARY:Relaxation Aquatique 3/12
DESCRIPTION:séances d’introduction au mouvement et à la relaxation en eau chaude \ntarif : 25€ par séance \nInscription \n+ d’infos
URL:https://idoflow.be/event/relaxation-aquatique-312
LOCATION:Au bord de l’eau\, Chaussée d'Alsemberg 620\, Bruxelles\, 1180\, Belgium
CATEGORIES:Relaxation Aquatique,Yogacqua
ATTACH;FMTTYPE=image/jpeg:https://idoflow.be/wp-content/uploads/2021/09/202107_Yoga_335-savasana-4-scaled.jpg
ORGANIZER;CN="Giacomo":MAILTO:giacomo@idoflow.be
END:VEVENT
BEGIN:VEVENT
DTSTART;TZID=Europe/Brussels:20221127T150000
DTEND;TZID=Europe/Brussels:20221127T173000
DTSTAMP:20260425T142426
CREATED:20220909T193801Z
LAST-MODIFIED:20220909T193801Z
UID:5116-1669561200-1669570200@idoflow.be
SUMMARY:Atelier Yogacqua terre & eau 27/11
DESCRIPTION:du tapis à l’eau chaude\, ateliers de 2h30 \nséance en salle\, suivie d’une séance dans l’eau\, sans prérequis \nTarif : 50€ / atelier
URL:https://idoflow.be/event/atelier-yogacqua-terre-eau-2711
LOCATION:Au bord de l’eau\, Chaussée d'Alsemberg 620\, Bruxelles\, 1180\, Belgium
CATEGORIES:Yoga,Yogacqua
ATTACH;FMTTYPE=image/jpeg:https://idoflow.be/wp-content/uploads/2021/09/202107_Yoga_161-scaled.jpg
ORGANIZER;CN="Giacomo":MAILTO:giacomo@idoflow.be
END:VEVENT
BEGIN:VEVENT
DTSTART;TZID=Europe/Brussels:20221116T100000
DTEND;TZID=Europe/Brussels:20221116T120000
DTSTAMP:20260425T142426
CREATED:20220910T144122Z
LAST-MODIFIED:20220910T144122Z
UID:5129-1668592800-1668600000@idoflow.be
SUMMARY:Relaxation Aquatique Re-Source 16/11
DESCRIPTION:Dans un bassin privatisé pour les membres de Re-source\, des thérapeutes vous proposent un moment de détente profonde. \nVous profitez des bienfaits d’une eau chauffée à 35° et de la joie d’être pleinement présent dans ce moment de détente. Libéré des contraintes de la gravité\, votre corps se laisse aller\, dénoué de toute tension. \nCet atelier de relaxation aquatique offre des temps de méditation\, de flottaison\, d’immersion aquatique\, de yoga\, … Un moment de (re)découverte de soi et de l’autre\, en apesanteur pendant 60 minutes. \nL’équipe d’Annick Debaize\, Kinésithérapeute à Delta\, rassemble des praticiens aquatiques professionnels certifiés et engagés dans l’accompagnement thérapeutique. \n(1 heure dans l’eau pour un groupe de 8 personnes)\nBassin « Au bord de l’Eau »\, chée d’Alsemberg 620 à Uccle \nInformations : https://idoflow.be/vitalite\nInscriptions à info@re-source-delta.be
URL:https://idoflow.be/event/relaxation-aquatique-re-source-1611
LOCATION:Au bord de l’eau\, Chaussée d'Alsemberg 620\, Bruxelles\, 1180\, Belgium
CATEGORIES:IDO Vitalité,Relaxation Aquatique
ATTACH;FMTTYPE=image/jpeg:https://idoflow.be/wp-content/uploads/2022/06/Relaxation-Aquatique.jpg
ORGANIZER;CN="Louisiane":MAILTO:louisiane@idoflow.be
END:VEVENT
BEGIN:VEVENT
DTSTART;TZID=Europe/Brussels:20221105T190000
DTEND;TZID=Europe/Brussels:20221105T200000
DTSTAMP:20260425T142426
CREATED:20220909T192737Z
LAST-MODIFIED:20240913T144212Z
UID:5108-1667674800-1667678400@idoflow.be
SUMMARY:Relaxation Aquatique 5/11
DESCRIPTION:séances d’introduction au mouvement et à la relaxation en eau chaude \ntarif : 25€ par séance \nInscription \n+ d’infos
URL:https://idoflow.be/event/relaxation-aquatique-511
LOCATION:Au bord de l’eau\, Chaussée d'Alsemberg 620\, Bruxelles\, 1180\, Belgium
CATEGORIES:Relaxation Aquatique,Yogacqua
ATTACH;FMTTYPE=image/jpeg:https://idoflow.be/wp-content/uploads/2021/09/202107_Yoga_335-savasana-4-scaled.jpg
ORGANIZER;CN="Giacomo":MAILTO:giacomo@idoflow.be
END:VEVENT
BEGIN:VEVENT
DTSTART;TZID=Europe/Brussels:20221022T100000
DTEND;TZID=Europe/Brussels:20221022T123000
DTSTAMP:20260425T142426
CREATED:20220909T193620Z
LAST-MODIFIED:20220909T193620Z
UID:5114-1666432800-1666441800@idoflow.be
SUMMARY:Atelier Yogacqua 22/10
DESCRIPTION:du tapis à l’eau chaude\, ateliers de 2h30 \nséance en salle\, suivie d’une séance dans l’eau\, sans prérequis \nTarif : 50€ / atelier
URL:https://idoflow.be/event/atelier-yogacqua-2210
LOCATION:Au bord de l’eau\, Chaussée d'Alsemberg 620\, Bruxelles\, 1180\, Belgium
CATEGORIES:Yoga,Yogacqua
ATTACH;FMTTYPE=image/jpeg:https://idoflow.be/wp-content/uploads/2021/09/202107_Yoga_161-scaled.jpg
ORGANIZER;CN="Giacomo":MAILTO:giacomo@idoflow.be
END:VEVENT
BEGIN:VEVENT
DTSTART;TZID=Europe/Brussels:20221010T133000
DTEND;TZID=Europe/Brussels:20221010T153000
DTSTAMP:20260425T142426
CREATED:20220910T143855Z
LAST-MODIFIED:20220910T143855Z
UID:5127-1665408600-1665415800@idoflow.be
SUMMARY:Relaxation Aquatique Re-Source 10/10
DESCRIPTION:Dans un bassin privatisé pour les membres de Re-source\, des thérapeutes vous proposent un moment de détente profonde. \nVous profitez des bienfaits d’une eau chauffée à 35° et de la joie d’être pleinement présent dans ce moment de détente. Libéré des contraintes de la gravité\, votre corps se laisse aller\, dénoué de toute tension. \nCet atelier de relaxation aquatique offre des temps de méditation\, de flottaison\, d’immersion aquatique\, de yoga\, … Un moment de (re)découverte de soi et de l’autre\, en apesanteur pendant 60 minutes. \nInformations : https://idoflow.be/vitalite\nInscriptions à info@re-source-delta.be
URL:https://idoflow.be/event/relaxation-aquatique-re-source-1010
LOCATION:Au bord de l’eau\, Chaussée d'Alsemberg 620\, Bruxelles\, 1180\, Belgium
CATEGORIES:IDO Vitalité,Relaxation Aquatique
ATTACH;FMTTYPE=image/jpeg:https://idoflow.be/wp-content/uploads/2022/06/Relaxation-Aquatique.jpg
ORGANIZER;CN="Giacomo":MAILTO:giacomo@idoflow.be
END:VEVENT
BEGIN:VEVENT
DTSTART;TZID=Europe/Brussels:20221008T140000
DTEND;TZID=Europe/Brussels:20221008T150000
DTSTAMP:20260425T142426
CREATED:20220909T192607Z
LAST-MODIFIED:20240913T144211Z
UID:5106-1665237600-1665241200@idoflow.be
SUMMARY:Relaxation Aquatique 8/10
DESCRIPTION:séances d’introduction au mouvement et à la relaxation en eau chaude \ntarif : 25€ par séance \nInscription \n+ d’infos
URL:https://idoflow.be/event/relaxation-aquatique-810
LOCATION:Au bord de l’eau\, Chaussée d'Alsemberg 620\, Bruxelles\, 1180\, Belgium
CATEGORIES:Relaxation Aquatique,Yogacqua
ATTACH;FMTTYPE=image/jpeg:https://idoflow.be/wp-content/uploads/2021/09/202107_Yoga_335-savasana-4-scaled.jpg
ORGANIZER;CN="Giacomo":MAILTO:giacomo@idoflow.be
END:VEVENT
BEGIN:VEVENT
DTSTART;TZID=Europe/Brussels:20220924T140000
DTEND;TZID=Europe/Brussels:20220924T160000
DTSTAMP:20260425T142426
CREATED:20220910T143650Z
LAST-MODIFIED:20220910T143650Z
UID:5125-1664028000-1664035200@idoflow.be
SUMMARY:Relaxation Aquatique Re-Source 24/09
DESCRIPTION:Dans un bassin privatisé pour les membres de Re-source\, des thérapeutes vous proposent un moment de détente profonde. \nVous profitez des bienfaits d’une eau chauffée à 35° et de la joie d’être pleinement présent dans ce moment de détente. Libéré des contraintes de la gravité\, votre corps se laisse aller\, dénoué de toute tension. \nCet atelier de relaxation aquatique offre des temps de méditation\, de flottaison\, d’immersion aquatique\, de yoga\, … Un moment de (re)découverte de soi et de l’autre\, en apesanteur pendant 60 minutes. \nInformations : https://idoflow.be/vitalite\nInscriptions à info@re-source-delta.be \n 
URL:https://idoflow.be/event/relaxation-aquatique-re-source-2409
LOCATION:Au bord de l’eau\, Chaussée d'Alsemberg 620\, Bruxelles\, 1180\, Belgium
CATEGORIES:IDO Vitalité,Relaxation Aquatique
ATTACH;FMTTYPE=image/jpeg:https://idoflow.be/wp-content/uploads/2022/06/Relaxation-Aquatique.jpg
ORGANIZER;CN="Giacomo":MAILTO:giacomo@idoflow.be
END:VEVENT
BEGIN:VEVENT
DTSTART;TZID=Europe/Brussels:20220924T100000
DTEND;TZID=Europe/Brussels:20220924T123000
DTSTAMP:20260425T142426
CREATED:20220909T193443Z
LAST-MODIFIED:20220909T193443Z
UID:5112-1664013600-1664022600@idoflow.be
SUMMARY:Atelier Yogacqua terre & eau 24/09
DESCRIPTION:du tapis à l’eau chaude\, ateliers de 2h30 \nséance en salle\, suivie d’une séance dans l’eau\, sans prérequis \nTarif : 50€ / atelier
URL:https://idoflow.be/event/atelier-yogacqua-terre-eau-2409
LOCATION:Au bord de l’eau\, Chaussée d'Alsemberg 620\, Bruxelles\, 1180\, Belgium
CATEGORIES:Yoga,Yogacqua
ATTACH;FMTTYPE=image/jpeg:https://idoflow.be/wp-content/uploads/2021/09/202107_Yoga_161-scaled.jpg
ORGANIZER;CN="Giacomo":MAILTO:giacomo@idoflow.be
END:VEVENT
BEGIN:VEVENT
DTSTART;TZID=Europe/Brussels:20220914T194500
DTEND;TZID=Europe/Brussels:20220914T210000
DTSTAMP:20260425T142426
CREATED:20220828T174514Z
LAST-MODIFIED:20240913T144039Z
UID:5059-1663184700-1663189200@idoflow.be
SUMMARY:Yogacqua prénatal 14/09
DESCRIPTION:Allier les bienfaits du yoga prénatal et de l’eau chaude pour alléger la grossesse et préparer l’accouchement dans la détente. \nSéances d’une heure et quart\, sans prérequis\, dans un bassin chauffé privatisé. \nTarif : 30€ / séance\, 85€ / 3 séances\, 160€ / 6 séances\, 250€ / 10 séances \nPlus d’informations \nInscription
URL:https://idoflow.be/event/yogacqua-prenatal-1409
LOCATION:Au bord de l’eau\, Chaussée d'Alsemberg 620\, Bruxelles\, 1180\, Belgium
CATEGORIES:Yoga prénatal,Yogacqua prénatal
ATTACH;FMTTYPE=image/jpeg:https://idoflow.be/wp-content/uploads/2022/08/UNADJUSTEDNONRAW_thumb_50fc.jpg
ORGANIZER;CN="Giacomo":MAILTO:giacomo@idoflow.be
END:VEVENT
BEGIN:VEVENT
DTSTART;TZID=Europe/Brussels:20220830T133000
DTEND;TZID=Europe/Brussels:20220830T150000
DTSTAMP:20260425T142426
CREATED:20220628T092825Z
LAST-MODIFIED:20220628T092825Z
UID:4916-1661866200-1661871600@idoflow.be
SUMMARY:Relaxation Aquatique Re-Source 2
DESCRIPTION:Cette séance de relaxation aquatique vous offre un moment de (re)découverte de vous-même\, et de détente. Vous profitez des bienfaits de l’eau et de la joie d’être pleinement présent(e). Cet atelier inclut des propositions de méditation\, de yoga\, de flottaison\, d’immersion subaquatique\, etc.
URL:https://idoflow.be/event/relaxation-aquatique-re-source-2
LOCATION:Au bord de l’eau\, Chaussée d'Alsemberg 620\, Bruxelles\, 1180\, Belgium
CATEGORIES:IDO Vitalité,Relaxation Aquatique
ATTACH;FMTTYPE=image/jpeg:https://idoflow.be/wp-content/uploads/2022/06/Relaxation-Aquatique.jpg
ORGANIZER;CN="Louisiane":MAILTO:louisiane@idoflow.be
END:VEVENT
BEGIN:VEVENT
DTSTART;TZID=Europe/Brussels:20220703T160000
DTEND;TZID=Europe/Brussels:20220703T173000
DTSTAMP:20260425T142426
CREATED:20220628T092237Z
LAST-MODIFIED:20220628T092421Z
UID:4912-1656864000-1656869400@idoflow.be
SUMMARY:Relaxation Aquatique Re-Source 1
DESCRIPTION:Cette séance de relaxation aquatique vous offre un moment de (re)découverte de vous-même\, et de détente. Vous profitez des bienfaits de l’eau et de la joie d’être pleinement présent(e). Cet atelier inclut des propositions de méditation\, de yoga\, de flottaison\, d’immersion subaquatique\, etc.
URL:https://idoflow.be/event/relaxation-aquatique-re-source-1
LOCATION:Au bord de l’eau\, Chaussée d'Alsemberg 620\, Bruxelles\, 1180\, Belgium
CATEGORIES:IDO Vitalité,Relaxation Aquatique
ATTACH;FMTTYPE=image/jpeg:https://idoflow.be/wp-content/uploads/2022/06/Relaxation-Aquatique.jpg
END:VEVENT
BEGIN:VEVENT
DTSTART;TZID=Europe/Brussels:20220626T100000
DTEND;TZID=Europe/Brussels:20220626T123000
DTSTAMP:20260425T142426
CREATED:20220523T181325Z
LAST-MODIFIED:20220523T181325Z
UID:4823-1656237600-1656246600@idoflow.be
SUMMARY:Atelier Yogacqua et bols de cristal 26 juin 2022
DESCRIPTION:En collaboration avec Lagom Balance\, nous vous proposons deux ateliers uniques : yoga et bain sonore en eau chaude. \nNous commencerons par une séance de 30′ en salle\, suivie d’une séance de 75′ dans l’eau\, pour conclure avec une relaxation en flottaison accompagnée du son apaisant des bols de cristal Alchemy Crystal. \nEt pour bien terminer nous partagerons un délicieux snack préparé par Bouchée Double et un bon jus local proposé par frOui. \nPlus d’infos et inscription
URL:https://idoflow.be/event/atelier-yogacqua-et-bols-de-cristal-26-juin-2022
LOCATION:Au bord de l’eau\, Chaussée d'Alsemberg 620\, Bruxelles\, 1180\, Belgium
CATEGORIES:Yoga,Yogacqua
ATTACH;FMTTYPE=image/jpeg:https://idoflow.be/wp-content/uploads/2021/09/202107_Yoga_332-savasana-3-scaled.jpg
ORGANIZER;CN="Giacomo":MAILTO:giacomo@idoflow.be
END:VEVENT
BEGIN:VEVENT
DTSTART;TZID=Europe/Brussels:20220625T100000
DTEND;TZID=Europe/Brussels:20220625T123000
DTSTAMP:20260425T142426
CREATED:20220523T181106Z
LAST-MODIFIED:20220523T181106Z
UID:4821-1656151200-1656160200@idoflow.be
SUMMARY:Atelier Yogacqua et bols de cristal 25 juin 2022
DESCRIPTION:En collaboration avec Lagom Balance\, nous vous proposons deux ateliers uniques : yoga et bain sonore en eau chaude. \nNous commencerons par une séance de 30′ en salle\, suivie d’une séance de 75′ dans l’eau\, pour conclure avec une relaxation en flottaison accompagnée du son apaisant des bols de cristal Alchemy Crystal. \nEt pour bien terminer nous partagerons un délicieux snack préparé par Bouchée Double et un bon jus local proposé par frOui. \nPlus d’infos et inscription
URL:https://idoflow.be/event/atelier-yogacqua-et-bols-de-cristal-25-juin-2022
LOCATION:Au bord de l’eau\, Chaussée d'Alsemberg 620\, Bruxelles\, 1180\, Belgium
CATEGORIES:Yoga,Yogacqua
ATTACH;FMTTYPE=image/jpeg:https://idoflow.be/wp-content/uploads/2021/09/202107_Yoga_332-savasana-3-scaled.jpg
ORGANIZER;CN="Giacomo":MAILTO:giacomo@idoflow.be
END:VEVENT
BEGIN:VEVENT
DTSTART;TZID=Europe/Brussels:20220612T160000
DTEND;TZID=Europe/Brussels:20220612T170000
DTSTAMP:20260425T142426
CREATED:20220530T094238Z
LAST-MODIFIED:20220530T094238Z
UID:4852-1655049600-1655053200@idoflow.be
SUMMARY:Séance découverte Relaxation Aquatique
DESCRIPTION:À l’occasion du parcours bien-être de Bruxelles\, je vous propose une séance pour découvrir la relaxation aquatique à tarif réduit. \nDécouvrez l’apesanteur et expérimentez une profonde détente en vous laissant flotter dans l’eau à 35°C. \ndimanche 12 juin de 16h à 17h \nTarif : 20€ / personne (comprend l’accès à la piscine)
URL:https://idoflow.be/event/seance-decouverte-relaxation-aquatique
LOCATION:Au bord de l’eau\, Chaussée d'Alsemberg 620\, Bruxelles\, 1180\, Belgium
CATEGORIES:Yogacqua
ATTACH;FMTTYPE=image/png:https://idoflow.be/wp-content/uploads/2022/05/event-cover-relaxation-aquatique-parcours-bien-etre.png
ORGANIZER;CN="Giacomo":MAILTO:giacomo@idoflow.be
END:VEVENT
END:VCALENDAR