BEGIN:VCALENDAR
VERSION:2.0
PRODID:-//IDO - ECPv6.15.20//NONSGML v1.0//EN
CALSCALE:GREGORIAN
METHOD:PUBLISH
X-WR-CALNAME:IDO
X-ORIGINAL-URL:https://idoflow.be
X-WR-CALDESC:Évènements pour IDO
REFRESH-INTERVAL;VALUE=DURATION:PT1H
X-Robots-Tag:noindex
X-PUBLISHED-TTL:PT1H
BEGIN:VTIMEZONE
TZID:Europe/Brussels
BEGIN:DAYLIGHT
TZOFFSETFROM:+0100
TZOFFSETTO:+0200
TZNAME:CEST
DTSTART:20200329T010000
END:DAYLIGHT
BEGIN:STANDARD
TZOFFSETFROM:+0200
TZOFFSETTO:+0100
TZNAME:CET
DTSTART:20201025T010000
END:STANDARD
BEGIN:DAYLIGHT
TZOFFSETFROM:+0100
TZOFFSETTO:+0200
TZNAME:CEST
DTSTART:20210328T010000
END:DAYLIGHT
BEGIN:STANDARD
TZOFFSETFROM:+0200
TZOFFSETTO:+0100
TZNAME:CET
DTSTART:20211031T010000
END:STANDARD
BEGIN:DAYLIGHT
TZOFFSETFROM:+0100
TZOFFSETTO:+0200
TZNAME:CEST
DTSTART:20220327T010000
END:DAYLIGHT
BEGIN:STANDARD
TZOFFSETFROM:+0200
TZOFFSETTO:+0100
TZNAME:CET
DTSTART:20221030T010000
END:STANDARD
BEGIN:DAYLIGHT
TZOFFSETFROM:+0100
TZOFFSETTO:+0200
TZNAME:CEST
DTSTART:20230326T010000
END:DAYLIGHT
BEGIN:STANDARD
TZOFFSETFROM:+0200
TZOFFSETTO:+0100
TZNAME:CET
DTSTART:20231029T010000
END:STANDARD
END:VTIMEZONE
BEGIN:VEVENT
DTSTART;TZID=Europe/Brussels:20220626T190000
DTEND;TZID=Europe/Brussels:20220626T203000
DTSTAMP:20260426T023244
CREATED:20220402T175849Z
LAST-MODIFIED:20240913T144210Z
UID:4790-1656270000-1656275400@idoflow.be
SUMMARY:Yogacqua 26 juin
DESCRIPTION:Allier les bienfaits du yoga et de l’eau chaude pour explorer le mouvement conscient et la détente. \nSéances d’une heure et demie\, sans prérequis. \nTarif : 35€ / séance \nInscription
URL:https://idoflow.be/event/yogacqua-26-juin
LOCATION:Au bord de l’eau\, Chaussée d'Alsemberg 620\, Bruxelles\, 1180\, Belgium
CATEGORIES:Yoga,Yogacqua
ATTACH;FMTTYPE=image/jpeg:https://idoflow.be/wp-content/uploads/2021/09/202107_Yoga_189-scaled.jpg
ORGANIZER;CN="Giacomo":MAILTO:giacomo@idoflow.be
END:VEVENT
BEGIN:VEVENT
DTSTART;TZID=Europe/Brussels:20220626T100000
DTEND;TZID=Europe/Brussels:20220626T123000
DTSTAMP:20260426T023244
CREATED:20220523T181325Z
LAST-MODIFIED:20220523T181325Z
UID:4823-1656237600-1656246600@idoflow.be
SUMMARY:Atelier Yogacqua et bols de cristal 26 juin 2022
DESCRIPTION:En collaboration avec Lagom Balance\, nous vous proposons deux ateliers uniques : yoga et bain sonore en eau chaude. \nNous commencerons par une séance de 30′ en salle\, suivie d’une séance de 75′ dans l’eau\, pour conclure avec une relaxation en flottaison accompagnée du son apaisant des bols de cristal Alchemy Crystal. \nEt pour bien terminer nous partagerons un délicieux snack préparé par Bouchée Double et un bon jus local proposé par frOui. \nPlus d’infos et inscription
URL:https://idoflow.be/event/atelier-yogacqua-et-bols-de-cristal-26-juin-2022
LOCATION:Au bord de l’eau\, Chaussée d'Alsemberg 620\, Bruxelles\, 1180\, Belgium
CATEGORIES:Yoga,Yogacqua
ATTACH;FMTTYPE=image/jpeg:https://idoflow.be/wp-content/uploads/2021/09/202107_Yoga_332-savasana-3-scaled.jpg
ORGANIZER;CN="Giacomo":MAILTO:giacomo@idoflow.be
END:VEVENT
BEGIN:VEVENT
DTSTART;TZID=Europe/Brussels:20220625T100000
DTEND;TZID=Europe/Brussels:20220625T123000
DTSTAMP:20260426T023244
CREATED:20220523T181106Z
LAST-MODIFIED:20220523T181106Z
UID:4821-1656151200-1656160200@idoflow.be
SUMMARY:Atelier Yogacqua et bols de cristal 25 juin 2022
DESCRIPTION:En collaboration avec Lagom Balance\, nous vous proposons deux ateliers uniques : yoga et bain sonore en eau chaude. \nNous commencerons par une séance de 30′ en salle\, suivie d’une séance de 75′ dans l’eau\, pour conclure avec une relaxation en flottaison accompagnée du son apaisant des bols de cristal Alchemy Crystal. \nEt pour bien terminer nous partagerons un délicieux snack préparé par Bouchée Double et un bon jus local proposé par frOui. \nPlus d’infos et inscription
URL:https://idoflow.be/event/atelier-yogacqua-et-bols-de-cristal-25-juin-2022
LOCATION:Au bord de l’eau\, Chaussée d'Alsemberg 620\, Bruxelles\, 1180\, Belgium
CATEGORIES:Yoga,Yogacqua
ATTACH;FMTTYPE=image/jpeg:https://idoflow.be/wp-content/uploads/2021/09/202107_Yoga_332-savasana-3-scaled.jpg
ORGANIZER;CN="Giacomo":MAILTO:giacomo@idoflow.be
END:VEVENT
BEGIN:VEVENT
DTSTART;TZID=Europe/Brussels:20220612T190000
DTEND;TZID=Europe/Brussels:20220612T203000
DTSTAMP:20260426T023244
CREATED:20220402T175735Z
LAST-MODIFIED:20240913T144210Z
UID:4788-1655060400-1655065800@idoflow.be
SUMMARY:Yogacqua 12 juin
DESCRIPTION:Allier les bienfaits du yoga et de l’eau chaude pour explorer le mouvement conscient et la détente. \nSéances d’une heure et demie\, sans prérequis. \nTarif : 35€ / séance \nInscription
URL:https://idoflow.be/event/yogacqua-12-juin
LOCATION:Au bord de l’eau\, Chaussée d'Alsemberg 620\, Bruxelles\, 1180\, Belgium
CATEGORIES:Yoga,Yogacqua
ATTACH;FMTTYPE=image/jpeg:https://idoflow.be/wp-content/uploads/2021/09/202107_Yoga_189-scaled.jpg
ORGANIZER;CN="Giacomo":MAILTO:giacomo@idoflow.be
END:VEVENT
BEGIN:VEVENT
DTSTART;TZID=Europe/Brussels:20220611T123000
DTEND;TZID=Europe/Brussels:20220611T133000
DTSTAMP:20260426T023244
CREATED:20220530T093357Z
LAST-MODIFIED:20220530T093503Z
UID:4844-1654950600-1654954200@idoflow.be
SUMMARY:Séance découverte Yogacqua
DESCRIPTION:À l’occasion du parcours bien-être de Bruxelles\, je vous propose une séance pour découvrir le yoga en eau chaude à tarif réduit. \nExplorez le mouvement et l’immobilité\, l’équilibre et la détente en vous laissant guider par l’eau. \nsamedi 11 juin de 12h30 à 13h30 \nTarif : 20€ / personne (comprend l’accès à la piscine)
URL:https://idoflow.be/event/seance-decouverte-yogacqua
LOCATION:Au bord de l’eau\, Chaussée d'Alsemberg 620\, Bruxelles\, 1180\, Belgium
CATEGORIES:Yoga,Yogacqua
ATTACH;FMTTYPE=image/png:https://idoflow.be/wp-content/uploads/2022/05/event-cover-yogacqua-parcours-bien-etre.png
ORGANIZER;CN="Giacomo":MAILTO:giacomo@idoflow.be
END:VEVENT
BEGIN:VEVENT
DTSTART;TZID=Europe/Brussels:20220605T190000
DTEND;TZID=Europe/Brussels:20220605T203000
DTSTAMP:20260426T023244
CREATED:20220402T175629Z
LAST-MODIFIED:20240913T144210Z
UID:4786-1654455600-1654461000@idoflow.be
SUMMARY:Yogacqua 5 juin
DESCRIPTION:Allier les bienfaits du yoga et de l’eau chaude pour explorer le mouvement conscient et la détente. \nSéances d’une heure et demie\, sans prérequis. \nTarif : 35€ / séance \nInscription
URL:https://idoflow.be/event/yogacqua-5-juin
LOCATION:Au bord de l’eau\, Chaussée d'Alsemberg 620\, Bruxelles\, 1180\, Belgium
CATEGORIES:Yoga,Yogacqua
ATTACH;FMTTYPE=image/jpeg:https://idoflow.be/wp-content/uploads/2021/09/202107_Yoga_189-scaled.jpg
ORGANIZER;CN="Giacomo":MAILTO:giacomo@idoflow.be
END:VEVENT
BEGIN:VEVENT
DTSTART;TZID=Europe/Brussels:20220529T190000
DTEND;TZID=Europe/Brussels:20220529T203000
DTSTAMP:20260426T023244
CREATED:20220402T175511Z
LAST-MODIFIED:20240913T144210Z
UID:4784-1653850800-1653856200@idoflow.be
SUMMARY:Yogacqua 29 mai
DESCRIPTION:Allier les bienfaits du yoga et de l’eau chaude pour explorer le mouvement conscient et la détente. \nSéances d’une heure et demie\, sans prérequis. \nTarif : 35€ / séance \nInscription
URL:https://idoflow.be/event/yogacqua-29-mai
LOCATION:Au bord de l’eau\, Chaussée d'Alsemberg 620\, Bruxelles\, 1180\, Belgium
CATEGORIES:Yoga,Yogacqua
ATTACH;FMTTYPE=image/jpeg:https://idoflow.be/wp-content/uploads/2021/09/202107_Yoga_189-scaled.jpg
ORGANIZER;CN="Giacomo":MAILTO:giacomo@idoflow.be
END:VEVENT
BEGIN:VEVENT
DTSTART;TZID=Europe/Brussels:20220515T190000
DTEND;TZID=Europe/Brussels:20220515T203000
DTSTAMP:20260426T023244
CREATED:20220402T175317Z
LAST-MODIFIED:20240913T144210Z
UID:4782-1652641200-1652646600@idoflow.be
SUMMARY:Yogacqua 15 mai
DESCRIPTION:Allier les bienfaits du yoga et de l’eau chaude pour explorer le mouvement conscient et la détente. \nSéances d’une heure et demie\, sans prérequis. \nTarif : 35€ / séance \nInscription
URL:https://idoflow.be/event/yogacqua-15-mai
LOCATION:Au bord de l’eau\, Chaussée d'Alsemberg 620\, Bruxelles\, 1180\, Belgium
CATEGORIES:Yoga,Yogacqua
ATTACH;FMTTYPE=image/jpeg:https://idoflow.be/wp-content/uploads/2021/09/202107_Yoga_189-scaled.jpg
ORGANIZER;CN="Giacomo":MAILTO:giacomo@idoflow.be
END:VEVENT
BEGIN:VEVENT
DTSTART;TZID=Europe/Brussels:20220424T190000
DTEND;TZID=Europe/Brussels:20220424T203000
DTSTAMP:20260426T023244
CREATED:20220402T175145Z
LAST-MODIFIED:20240913T144210Z
UID:4780-1650826800-1650832200@idoflow.be
SUMMARY:Yogacqua 24 avril
DESCRIPTION:Allier les bienfaits du yoga et de l’eau chaude pour explorer le mouvement conscient et la détente. \nSéances d’une heure et demie\, sans prérequis. \nTarif : 35€ / séance \nInscription
URL:https://idoflow.be/event/yogacqua-24-avril
LOCATION:Au bord de l’eau\, Chaussée d'Alsemberg 620\, Bruxelles\, 1180\, Belgium
CATEGORIES:Yoga,Yogacqua
ATTACH;FMTTYPE=image/jpeg:https://idoflow.be/wp-content/uploads/2021/09/202107_Yoga_189-scaled.jpg
ORGANIZER;CN="Giacomo":MAILTO:giacomo@idoflow.be
END:VEVENT
BEGIN:VEVENT
DTSTART;TZID=Europe/Brussels:20220403T190000
DTEND;TZID=Europe/Brussels:20220403T203000
DTSTAMP:20260426T023244
CREATED:20220331T110436Z
LAST-MODIFIED:20241114T184802Z
UID:4778-1649012400-1649017800@idoflow.be
SUMMARY:Yogacqua 3 avril
DESCRIPTION:Allier les bienfaits du yoga et de l’eau chaude pour explorer le mouvement conscient et la détente. \nSéances d’une heure et demie\, sans prérequis. \nTarif : 35€ / séance \nInscription
URL:https://idoflow.be/event/yogacqua-3-avril
LOCATION:Au bord de l’eau\, Chaussée d'Alsemberg 620\, Bruxelles\, 1180\, Belgium
CATEGORIES:Yoga,Yogacqua
ATTACH;FMTTYPE=image/jpeg:https://idoflow.be/wp-content/uploads/2021/09/202107_Yoga_189-scaled.jpg
ORGANIZER;CN="Giacomo":MAILTO:giacomo@idoflow.be
END:VEVENT
BEGIN:VEVENT
DTSTART;TZID=Europe/Brussels:20220320T190000
DTEND;TZID=Europe/Brussels:20220320T203000
DTSTAMP:20260426T023244
CREATED:20220106T184839Z
LAST-MODIFIED:20240913T144209Z
UID:4669-1647802800-1647808200@idoflow.be
SUMMARY:Yogacqua - yoga en eau chaude
DESCRIPTION:Allier les bienfaits du yoga et de l’eau chaude pour explorer le mouvement conscient et la détente. \nSéances d’une heure et demie\, sans prérequis. \nTarif : 35€ / séance \nInscription
URL:https://idoflow.be/event/yogacqua-yoga-en-eau-chaude
LOCATION:Au bord de l’eau\, Chaussée d'Alsemberg 620\, Bruxelles\, 1180\, Belgium
CATEGORIES:Yoga,Yogacqua
ATTACH;FMTTYPE=image/jpeg:https://idoflow.be/wp-content/uploads/2021/09/202107_Yoga_191-scaled.jpg
ORGANIZER;CN="Giacomo":MAILTO:giacomo@idoflow.be
END:VEVENT
BEGIN:VEVENT
DTSTART;TZID=Europe/Brussels:20220313T190000
DTEND;TZID=Europe/Brussels:20220313T203000
DTSTAMP:20260426T023244
CREATED:20220106T184729Z
LAST-MODIFIED:20240913T144209Z
UID:4667-1647198000-1647203400@idoflow.be
SUMMARY:Yogacqua - yoga en eau chaude
DESCRIPTION:Allier les bienfaits du yoga et de l’eau chaude pour explorer le mouvement conscient et la détente. \nSéances d’une heure et demie\, sans prérequis. \nTarif : 35€ / séance \nInscription
URL:https://idoflow.be/event/yogacqua-yoga-en-eau-chaude
LOCATION:Au bord de l’eau\, Chaussée d'Alsemberg 620\, Bruxelles\, 1180\, Belgium
CATEGORIES:Yoga,Yogacqua
ATTACH;FMTTYPE=image/jpeg:https://idoflow.be/wp-content/uploads/2021/09/202107_Yoga_191-scaled.jpg
ORGANIZER;CN="Giacomo":MAILTO:giacomo@idoflow.be
END:VEVENT
BEGIN:VEVENT
DTSTART;TZID=Europe/Brussels:20220306T190000
DTEND;TZID=Europe/Brussels:20220306T203000
DTSTAMP:20260426T023244
CREATED:20220208T074642Z
LAST-MODIFIED:20240913T144210Z
UID:4739-1646593200-1646598600@idoflow.be
SUMMARY:Yogacqua - yoga en eau chaude
DESCRIPTION:Allier les bienfaits du yoga et de l’eau chaude pour explorer le mouvement conscient et la détente. \nSéances d’une heure et demie\, sans prérequis. \nTarif : 35€ / séance \nInscription
URL:https://idoflow.be/event/yogacqua-yoga-en-eau-chaude
LOCATION:Au bord de l’eau\, Chaussée d'Alsemberg 620\, Bruxelles\, 1180\, Belgium
CATEGORIES:Yoga,Yogacqua
ATTACH;FMTTYPE=image/jpeg:https://idoflow.be/wp-content/uploads/2021/09/202107_Yoga_191-scaled.jpg
ORGANIZER;CN="Giacomo":MAILTO:giacomo@idoflow.be
END:VEVENT
BEGIN:VEVENT
DTSTART;TZID=Europe/Brussels:20220227T190000
DTEND;TZID=Europe/Brussels:20220227T203000
DTSTAMP:20260426T023244
CREATED:20220106T184458Z
LAST-MODIFIED:20240913T144209Z
UID:4665-1645988400-1645993800@idoflow.be
SUMMARY:Yogacqua - yoga en eau chaude
DESCRIPTION:Allier les bienfaits du yoga et de l’eau chaude pour explorer le mouvement conscient et la détente. \nSéances d’une heure et demie\, sans prérequis. \nTarif : 35€ / séance \nInscription
URL:https://idoflow.be/event/yogacqua-yoga-en-eau-chaude
LOCATION:Au bord de l’eau\, Chaussée d'Alsemberg 620\, Bruxelles\, 1180\, Belgium
CATEGORIES:Yoga,Yogacqua
ATTACH;FMTTYPE=image/jpeg:https://idoflow.be/wp-content/uploads/2021/09/202107_Yoga_191-scaled.jpg
ORGANIZER;CN="Giacomo":MAILTO:giacomo@idoflow.be
END:VEVENT
BEGIN:VEVENT
DTSTART;TZID=Europe/Brussels:20220220T190000
DTEND;TZID=Europe/Brussels:20220220T203000
DTSTAMP:20260426T023244
CREATED:20220207T173209Z
LAST-MODIFIED:20240913T144209Z
UID:4715-1645383600-1645389000@idoflow.be
SUMMARY:Yogacqua - yoga en eau chaude
DESCRIPTION:Yogacqua – yoga en eau chaude \nAllier les bienfaits du yoga et de l’eau chaude pour explorer le mouvement conscient et la détente. \nSéances d’une heure et demie\, sans prérequis. \nTarif : 35€ / séance \nInscription
URL:https://idoflow.be/event/yogacqua-yoga-en-eau-chaude
LOCATION:Au bord de l’eau\, Chaussée d'Alsemberg 620\, Bruxelles\, 1180\, Belgium
CATEGORIES:Yoga,Yogacqua
ATTACH;FMTTYPE=image/jpeg:https://idoflow.be/wp-content/uploads/2021/09/202107_Yoga_191-scaled.jpg
ORGANIZER;CN="Giacomo":MAILTO:giacomo@idoflow.be
END:VEVENT
BEGIN:VEVENT
DTSTART;TZID=Europe/Brussels:20220206T190000
DTEND;TZID=Europe/Brussels:20220206T203000
DTSTAMP:20260426T023244
CREATED:20220106T184222Z
LAST-MODIFIED:20240913T144209Z
UID:4661-1644174000-1644179400@idoflow.be
SUMMARY:Yogacqua - yoga en eau chaude
DESCRIPTION:Allier les bienfaits du yoga et de l’eau chaude pour explorer le mouvement conscient et la détente. \nSéances d’une heure et demie\, sans prérequis. \nTarif : 35€ / séance \nInscription
URL:https://idoflow.be/event/yogacqua-yoga-en-eau-chaude
LOCATION:Au bord de l’eau\, Chaussée d'Alsemberg 620\, Bruxelles\, 1180\, Belgium
CATEGORIES:Yoga,Yogacqua
ATTACH;FMTTYPE=image/jpeg:https://idoflow.be/wp-content/uploads/2021/09/202107_Yoga_191-scaled.jpg
ORGANIZER;CN="Giacomo":MAILTO:giacomo@idoflow.be
END:VEVENT
BEGIN:VEVENT
DTSTART;TZID=Europe/Brussels:20220123T150000
DTEND;TZID=Europe/Brussels:20220123T163000
DTSTAMP:20260426T023244
CREATED:20220106T183936Z
LAST-MODIFIED:20240913T144209Z
UID:4655-1642950000-1642955400@idoflow.be
SUMMARY:Yogacqua - yoga en eau chaude
DESCRIPTION:Allier les bienfaits du yoga et de l’eau chaude pour explorer le mouvement conscient et la détente. \nSéances d’une heure et demie\, sans prérequis. \nTarif : 35€ / séance \nInscription
URL:https://idoflow.be/event/yogacqua-yoga-en-eau-chaude
LOCATION:Au bord de l’eau\, Chaussée d'Alsemberg 620\, Bruxelles\, 1180\, Belgium
CATEGORIES:Yoga,Yogacqua
ATTACH;FMTTYPE=image/jpeg:https://idoflow.be/wp-content/uploads/2021/09/202107_Yoga_191-scaled.jpg
ORGANIZER;CN="Giacomo":MAILTO:giacomo@idoflow.be
END:VEVENT
BEGIN:VEVENT
DTSTART;TZID=Europe/Brussels:20220116T150000
DTEND;TZID=Europe/Brussels:20220116T163000
DTSTAMP:20260426T023244
CREATED:20220106T183025Z
LAST-MODIFIED:20240913T144209Z
UID:4653-1642345200-1642350600@idoflow.be
SUMMARY:Yogacqua - yoga en eau chaude
DESCRIPTION:Allier les bienfaits du yoga et de l’eau chaude pour explorer le mouvement conscient et la détente. \nSéances d’une heure et demie\, sans prérequis. \nTarif : 35€ / séance \nInscription
URL:https://idoflow.be/event/yogacqua-yoga-en-eau-chaude
LOCATION:Au bord de l’eau\, Chaussée d'Alsemberg 620\, Bruxelles\, 1180\, Belgium
CATEGORIES:Yoga,Yogacqua
ATTACH;FMTTYPE=image/jpeg:https://idoflow.be/wp-content/uploads/2021/09/202107_Yoga_191-scaled.jpg
ORGANIZER;CN="Giacomo":MAILTO:giacomo@idoflow.be
END:VEVENT
BEGIN:VEVENT
DTSTART;TZID=Europe/Brussels:20211216T190000
DTEND;TZID=Europe/Brussels:20211216T200000
DTSTAMP:20260426T023244
CREATED:20211011T094308Z
LAST-MODIFIED:20211014T110804Z
UID:4075-1639681200-1639684800@idoflow.be
SUMMARY:Yogacqua - cycle du jeudi (6/6)
DESCRIPTION:Yogacqua – Yoga en eau chaude\n\n\n\n\nCe cycle compte six séances d’une heure chacune\, accessibles séparément ou sous forme de paquet. \nChaque séance portera plus particulièrement l’attention sur une partie du corps (jambes\, hanches\, colonne\, épaules\, tête)\, sans pour autant oublier les autres. \n\n\n\n\nInformations pratiques\n\n\n\n\nHoraire : de 19h à 20h \nDates : 28/10\, 4/11\, 25/11\, 2/12 9/12\, 16/12 \nTarif : 1 séance = 30€ ; les 6 séances = 156€ (soit 26€ la séance) \n\n\n 
URL:https://idoflow.be/event/yogacqua-cycle-du-jeudi-66
LOCATION:Au bord de l’eau\, Chaussée d'Alsemberg 620\, Bruxelles\, 1180\, Belgium
CATEGORIES:Yogacqua
ATTACH;FMTTYPE=image/jpeg:https://idoflow.be/wp-content/uploads/2021/09/202107_Yoga_189-scaled.jpg
ORGANIZER;CN="Giacomo":MAILTO:giacomo@idoflow.be
END:VEVENT
BEGIN:VEVENT
DTSTART;TZID=Europe/Brussels:20211212T160000
DTEND;TZID=Europe/Brussels:20211212T173000
DTSTAMP:20260426T023244
CREATED:20211011T094916Z
LAST-MODIFIED:20211014T110616Z
UID:4083-1639324800-1639330200@idoflow.be
SUMMARY:Yogacqua - cycle du dimanche (4/4)
DESCRIPTION:Yogacqua – Yoga en eau chaude \nCe cycle compte quatre séances d’une heure et demie chacune\, accessibles séparément ou sous forme de paquet. \nChaque séance portera sur un thème particulier (ancrage\, équilibre\, fluidité et lâcher-prise). \nElles se déroulent dans un bassin privatif chauffé à 35°C situé à Uccle\, et les tarifs incluent les frais de réservation de la piscine. \n\n\n\n\nInformations pratiques\n\n\n\n\nHoraire : de 16h à 17h30 \nDates : 28/10\, 4/11\, 25/11\, 2/12\, 9/12 et 16/12 \nTarif : 1 séance = 35€ ; les 4 séances = 120€ (soit 30€ la séance) \n\n\n 
URL:https://idoflow.be/event/yogacqua-cycle-du-dimanche-44
LOCATION:Au bord de l’eau\, Chaussée d'Alsemberg 620\, Bruxelles\, 1180\, Belgium
CATEGORIES:Yogacqua
ATTACH;FMTTYPE=image/jpeg:https://idoflow.be/wp-content/uploads/2021/09/202107_Yoga_332-savasana-3-scaled.jpg
ORGANIZER;CN="Giacomo":MAILTO:giacomo@idoflow.be
END:VEVENT
BEGIN:VEVENT
DTSTART;TZID=Europe/Brussels:20211209T190000
DTEND;TZID=Europe/Brussels:20211209T200000
DTSTAMP:20260426T023244
CREATED:20211011T094152Z
LAST-MODIFIED:20211014T110829Z
UID:4073-1639076400-1639080000@idoflow.be
SUMMARY:Yogacqua - cycle du jeudi (5/6)
DESCRIPTION:Yogacqua – Yoga en eau chaude\n\n\n\n\nCe cycle compte six séances d’une heure chacune\, accessibles séparément ou sous forme de paquet. \nChaque séance portera plus particulièrement l’attention sur une partie du corps (jambes\, hanches\, colonne\, épaules\, tête)\, sans pour autant oublier les autres. \n\n\n\n\nInformations pratiques\n\n\n\n\nHoraire : de 19h à 20h \nDates : 28/10\, 4/11\, 25/11\, 2/12 9/12\, 16/12 \nTarif : 1 séance = 30€ ; les 6 séances = 156€ (soit 26€ la séance) \n\n\n 
URL:https://idoflow.be/event/yogacqua-cycle-du-jeudi-56
LOCATION:Au bord de l’eau\, Chaussée d'Alsemberg 620\, Bruxelles\, 1180\, Belgium
CATEGORIES:Yogacqua
ATTACH;FMTTYPE=image/jpeg:https://idoflow.be/wp-content/uploads/2021/09/202107_Yoga_189-scaled.jpg
ORGANIZER;CN="Giacomo":MAILTO:giacomo@idoflow.be
END:VEVENT
BEGIN:VEVENT
DTSTART;TZID=Europe/Brussels:20211202T190000
DTEND;TZID=Europe/Brussels:20211202T200000
DTSTAMP:20260426T023244
CREATED:20211011T093827Z
LAST-MODIFIED:20211014T110850Z
UID:4070-1638471600-1638475200@idoflow.be
SUMMARY:Yogacqua - cycle du jeudi (4/6)
DESCRIPTION:Yogacqua – Yoga en eau chaude\n\n\n\n\nCe cycle compte six séances d’une heure chacune\, accessibles séparément ou sous forme de paquet. \nChaque séance portera plus particulièrement l’attention sur une partie du corps (jambes\, hanches\, colonne\, épaules\, tête)\, sans pour autant oublier les autres. \n\n\n\n\nInformations pratiques\n\n\n\n\nHoraire : de 19h à 20h \nDates : 28/10\, 4/11\, 25/11\, 2/12 9/12\, 16/12 \nTarif : 1 séance = 30€ ; les 6 séances = 156€ (soit 26€ la séance) \n\n\n 
URL:https://idoflow.be/event/yogacqua-cycle-du-jeudi-46
LOCATION:Au bord de l’eau\, Chaussée d'Alsemberg 620\, Bruxelles\, 1180\, Belgium
CATEGORIES:Yogacqua
ATTACH;FMTTYPE=image/jpeg:https://idoflow.be/wp-content/uploads/2021/09/202107_Yoga_189-scaled.jpg
ORGANIZER;CN="Giacomo":MAILTO:giacomo@idoflow.be
END:VEVENT
BEGIN:VEVENT
DTSTART;TZID=Europe/Brussels:20211128T160000
DTEND;TZID=Europe/Brussels:20211128T173000
DTSTAMP:20260426T023244
CREATED:20211011T094742Z
LAST-MODIFIED:20211014T110644Z
UID:4081-1638115200-1638120600@idoflow.be
SUMMARY:Yogacqua - cycle du dimanche (3/4)
DESCRIPTION:Yogacqua – Yoga en eau chaude \nCe cycle compte quatre séances d’une heure et demie chacune\, accessibles séparément ou sous forme de paquet. \nChaque séance portera sur un thème particulier (ancrage\, équilibre\, fluidité et lâcher-prise). \nElles se déroulent dans un bassin privatif chauffé à 35°C situé à Uccle\, et les tarifs incluent les frais de réservation de la piscine. \n\n\n\n\nInformations pratiques\n\n\n\n\nHoraire : de 16h à 17h30 \nDates : 28/10\, 4/11\, 25/11\, 2/12\, 9/12 et 16/12 \nTarif : 1 séance = 35€ ; les 4 séances = 120€ (soit 30€ la séance) \n\n\n 
URL:https://idoflow.be/event/yogacqua-cycle-du-dimanche-34
LOCATION:Au bord de l’eau\, Chaussée d'Alsemberg 620\, Bruxelles\, 1180\, Belgium
CATEGORIES:Yogacqua
ATTACH;FMTTYPE=image/jpeg:https://idoflow.be/wp-content/uploads/2021/09/202107_Yoga_332-savasana-3-scaled.jpg
ORGANIZER;CN="Giacomo":MAILTO:giacomo@idoflow.be
END:VEVENT
BEGIN:VEVENT
DTSTART;TZID=Europe/Brussels:20211125T190000
DTEND;TZID=Europe/Brussels:20211125T200000
DTSTAMP:20260426T023244
CREATED:20211011T093624Z
LAST-MODIFIED:20211014T110914Z
UID:4068-1637866800-1637870400@idoflow.be
SUMMARY:Yogacqua - cycle du jeudi (3/6)
DESCRIPTION:Yogacqua – Yoga en eau chaude\n\n\n\n\nCe cycle compte six séances d’une heure chacune\, accessibles séparément ou sous forme de paquet. \nChaque séance portera plus particulièrement l’attention sur une partie du corps (jambes\, hanches\, colonne\, épaules\, tête)\, sans pour autant oublier les autres. \n\n\n\n\nInformations pratiques\n\n\n\n\nHoraire : de 19h à 20h \nDates : 28/10\, 4/11\, 25/11\, 2/12 9/12\, 16/12 \nTarif : 1 séance = 30€ ; les 6 séances = 156€ (soit 26€ la séance) \n\n\n 
URL:https://idoflow.be/event/yogacqua-cycle-du-jeudi-36
LOCATION:Au bord de l’eau\, Chaussée d'Alsemberg 620\, Bruxelles\, 1180\, Belgium
CATEGORIES:Yogacqua
ATTACH;FMTTYPE=image/jpeg:https://idoflow.be/wp-content/uploads/2021/09/202107_Yoga_189-scaled.jpg
ORGANIZER;CN="Giacomo":MAILTO:giacomo@idoflow.be
END:VEVENT
BEGIN:VEVENT
DTSTART;TZID=Europe/Brussels:20211114T160000
DTEND;TZID=Europe/Brussels:20211114T173000
DTSTAMP:20260426T023244
CREATED:20211011T094642Z
LAST-MODIFIED:20211014T110710Z
UID:4079-1636905600-1636911000@idoflow.be
SUMMARY:Yogacqua - cycle du dimanche (2/4)
DESCRIPTION:Yogacqua – Yoga en eau chaude \nCe cycle compte quatre séances d’une heure et demie chacune\, accessibles séparément ou sous forme de paquet. \nChaque séance portera sur un thème particulier (ancrage\, équilibre\, fluidité et lâcher-prise). \nElles se déroulent dans un bassin privatif chauffé à 35°C situé à Uccle\, et les tarifs incluent les frais de réservation de la piscine. \n\n\n\n\nInformations pratiques\n\n\n\n\nHoraire : de 16h à 17h30 \nDates : 28/10\, 4/11\, 25/11\, 2/12\, 9/12 et 16/12 \nTarif : 1 séance = 35€ ; les 4 séances = 120€ (soit 30€ la séance) \n\n\n 
URL:https://idoflow.be/event/yogacqua-cycle-du-dimanche-24
LOCATION:Au bord de l’eau\, Chaussée d'Alsemberg 620\, Bruxelles\, 1180\, Belgium
CATEGORIES:Yogacqua
ATTACH;FMTTYPE=image/jpeg:https://idoflow.be/wp-content/uploads/2021/09/202107_Yoga_332-savasana-3-scaled.jpg
ORGANIZER;CN="Giacomo":MAILTO:giacomo@idoflow.be
END:VEVENT
BEGIN:VEVENT
DTSTART;TZID=Europe/Brussels:20211107T100000
DTEND;TZID=Europe/Brussels:20211107T130000
DTSTAMP:20260426T023244
CREATED:20211010T185738Z
LAST-MODIFIED:20211014T111021Z
UID:4044-1636279200-1636290000@idoflow.be
SUMMARY:Atelier Yogacqua "Flow"
DESCRIPTION:Les ateliers Yogacqua sont des laboratoires où\, à partir du yoga\, nous explorons le mouvement conscient\, au sol et en eau chaude. \nCet atelier de 3h est composé de deux parties : \n\nUne séance en salle\, pour prendre nos repères et réveiller le corps.\nUne séance dans l’eau\, pour découvrir notre « corps aquatique » et nous laisser guider par cet élément pour trouver notre propre « flow ».\n\nAucun prérequis. \n\n\n\n\ninfo & inscriptions : giacomo@idoflow.be \ntarif : 50 € par personne / amène un(e) ami(e) et payez 40 € chacun(e) \nà prévoir : tenue confortable pour la pratique en salle\, maillot de bain et serviette pour la séance dans l’eau \nN.B. Covid Safe Pass nécessaire
URL:https://idoflow.be/event/atelier-yogacqua-flow
LOCATION:Au bord de l’eau\, Chaussée d'Alsemberg 620\, Bruxelles\, 1180\, Belgium
CATEGORIES:Yogacqua
ATTACH;FMTTYPE=image/jpeg:https://idoflow.be/wp-content/uploads/2021/09/202107_Yoga_191-scaled.jpg
ORGANIZER;CN="Giacomo":MAILTO:giacomo@idoflow.be
END:VEVENT
BEGIN:VEVENT
DTSTART;TZID=Europe/Brussels:20211104T190000
DTEND;TZID=Europe/Brussels:20211104T200000
DTSTAMP:20260426T023244
CREATED:20211011T093142Z
LAST-MODIFIED:20211014T110937Z
UID:4064-1636052400-1636056000@idoflow.be
SUMMARY:Yogacqua - cycle du jeudi (2/6)
DESCRIPTION:Yogacqua – Yoga en eau chaude\n\n\n\n\nCe cycle compte six séances d’une heure chacune\, accessibles séparément ou sous forme de paquet. \nChaque séance portera plus particulièrement l’attention sur une partie du corps (jambes\, hanches\, colonne\, épaules\, tête)\, sans pour autant oublier les autres. \n\n\n\n\nInformations pratiques\n\n\n\n\nHoraire : de 19h à 20h \nDates : 28/10\, 4/11\, 25/11\, 2/12 9/12\, 16/12 \nTarif : 1 séance = 30€ ; les 6 séances = 156€ (soit 26€ la séance) \n\n\n 
URL:https://idoflow.be/event/yogacqua-cycle-du-jeudi-26
LOCATION:Au bord de l’eau\, Chaussée d'Alsemberg 620\, Bruxelles\, 1180\, Belgium
CATEGORIES:Yogacqua
ATTACH;FMTTYPE=image/jpeg:https://idoflow.be/wp-content/uploads/2021/09/202107_Yoga_189-scaled.jpg
ORGANIZER;CN="Giacomo":MAILTO:giacomo@idoflow.be
END:VEVENT
BEGIN:VEVENT
DTSTART;TZID=Europe/Brussels:20211031T160000
DTEND;TZID=Europe/Brussels:20211031T173000
DTSTAMP:20260426T023244
CREATED:20211011T094535Z
LAST-MODIFIED:20211014T110739Z
UID:4077-1635696000-1635701400@idoflow.be
SUMMARY:Yogacqua - cycle du dimanche (1/4)
DESCRIPTION:Yogacqua – Yoga en eau chaude \nCe cycle compte quatre séances d’une heure et demie chacune\, accessibles séparément ou sous forme de paquet. \nChaque séance portera sur un thème particulier (ancrage\, équilibre\, fluidité et lâcher-prise). \nElles se déroulent dans un bassin privatif chauffé à 35°C situé à Uccle\, et les tarifs incluent les frais de réservation de la piscine. \n\n\n\n\nInformations pratiques\n\n\n\n\nHoraire : de 16h à 17h30 \nDates : 28/10\, 4/11\, 25/11\, 2/12\, 9/12 et 16/12 \nTarif : 1 séance = 35€ ; les 4 séances = 120€ (soit 30€ la séance) \n\n\n 
URL:https://idoflow.be/event/yogacqua-cycle-du-dimanche-14
LOCATION:Au bord de l’eau\, Chaussée d'Alsemberg 620\, Bruxelles\, 1180\, Belgium
CATEGORIES:Yogacqua
ATTACH;FMTTYPE=image/jpeg:https://idoflow.be/wp-content/uploads/2021/09/202107_Yoga_332-savasana-3-scaled.jpg
ORGANIZER;CN="Giacomo":MAILTO:giacomo@idoflow.be
END:VEVENT
BEGIN:VEVENT
DTSTART;TZID=Europe/Brussels:20211028T190000
DTEND;TZID=Europe/Brussels:20211028T200000
DTSTAMP:20260426T023244
CREATED:20211011T092915Z
LAST-MODIFIED:20211015T154623Z
UID:4062-1635447600-1635451200@idoflow.be
SUMMARY:Yogacqua - cycle du jeudi (1/6)
DESCRIPTION:Yogacqua – Yoga en eau chaude\n\n\n\n\nCe cycle compte six séances d’une heure chacune\, accessibles séparément ou sous forme de paquet. \nChaque séance portera plus particulièrement l’attention sur une partie du corps (jambes\, hanches\, colonne\, épaules\, tête)\, sans pour autant oublier les autres. \n\n\n\n\nInformations pratiques\n\n\n\n\nHoraire : de 19h à 20h \nDates : 28/10\, 4/11\, 25/11\, 2/12 9/12\, 16/12 \nTarif : 1 séance = 30€ ; les 6 séances = 156€ (soit 26€ la séance)
URL:https://idoflow.be/event/yogacqua-cycle-du-jeudi-16
LOCATION:Au bord de l’eau\, Chaussée d'Alsemberg 620\, Bruxelles\, 1180\, Belgium
CATEGORIES:Yogacqua
ATTACH;FMTTYPE=image/jpeg:https://idoflow.be/wp-content/uploads/2021/09/202107_Yoga_189-scaled.jpg
ORGANIZER;CN="Giacomo":MAILTO:giacomo@idoflow.be
END:VEVENT
END:VCALENDAR